BEGIN:VCALENDAR
VERSION:2.0
PRODID:-//LA HIP HOP EVENTS - ECPv6.15.20//NONSGML v1.0//EN
CALSCALE:GREGORIAN
METHOD:PUBLISH
X-WR-CALNAME:LA HIP HOP EVENTS
X-ORIGINAL-URL:https://lahiphopevents.com
X-WR-CALDESC:Events for LA HIP HOP EVENTS
REFRESH-INTERVAL;VALUE=DURATION:PT1H
X-Robots-Tag:noindex
X-PUBLISHED-TTL:PT1H
BEGIN:VTIMEZONE
TZID:America/Los_Angeles
BEGIN:DAYLIGHT
TZOFFSETFROM:-0800
TZOFFSETTO:-0700
TZNAME:PDT
DTSTART:20250309T100000
END:DAYLIGHT
BEGIN:STANDARD
TZOFFSETFROM:-0700
TZOFFSETTO:-0800
TZNAME:PST
DTSTART:20251102T090000
END:STANDARD
BEGIN:DAYLIGHT
TZOFFSETFROM:-0800
TZOFFSETTO:-0700
TZNAME:PDT
DTSTART:20260308T100000
END:DAYLIGHT
BEGIN:STANDARD
TZOFFSETFROM:-0700
TZOFFSETTO:-0800
TZNAME:PST
DTSTART:20261101T090000
END:STANDARD
BEGIN:DAYLIGHT
TZOFFSETFROM:-0800
TZOFFSETTO:-0700
TZNAME:PDT
DTSTART:20270314T100000
END:DAYLIGHT
BEGIN:STANDARD
TZOFFSETFROM:-0700
TZOFFSETTO:-0800
TZNAME:PST
DTSTART:20271107T090000
END:STANDARD
END:VTIMEZONE
BEGIN:VEVENT
DTSTART;TZID=America/Los_Angeles:20260531T170000
DTEND;TZID=America/Los_Angeles:20260531T220000
DTSTAMP:20260420T001739
CREATED:20260216T032518Z
LAST-MODIFIED:20260216T032518Z
UID:10004423-1780246800-1780264800@lahiphopevents.com
SUMMARY:GZA Performs Liquid Swords Live – Garden Grove
DESCRIPTION:GZA of WU-TANG CLAN performing LIQUID SWORDS in it’s entirety⁣\n⁣\nSun\, 31 May\, 5:00 PM – 10:00 PM ⁣\n⁣\nGarden Amphitheatre⁣\n12762 Main Street⁣\nGarden Grove\, CA 92840⁣
URL:https://lahiphopevents.com/event/gza-performs-liquid-swords-live-garden-grove/
LOCATION:Garden Amphitheatre | Garden Grove\, 12762 Main Street\, Garden Grove\, CA\, 92840\, United States
CATEGORIES:Concert,Events,Garden Grove,OC Hip Hop
ATTACH;FMTTYPE=image/jpeg:https://lahiphopevents.com/wp-content/uploads/2026/02/GZA.jpg
GEO:33.7767913;-117.940598
X-APPLE-STRUCTURED-LOCATION;VALUE=URI;X-ADDRESS=Garden Amphitheatre | Garden Grove 12762 Main Street Garden Grove CA 92840 United States;X-APPLE-RADIUS=500;X-TITLE=12762 Main Street:geo:-117.940598,33.7767913
END:VEVENT
BEGIN:VEVENT
DTSTART;TZID=America/Los_Angeles:20260531T190000
DTEND;TZID=America/Los_Angeles:20260531T190000
DTSTAMP:20260420T001739
CREATED:20260128T232843Z
LAST-MODIFIED:20260129T004704Z
UID:10004397-1780254000-1780254000@lahiphopevents.com
SUMMARY:Elmiene: Sounds for Someone Tour Live in LA
DESCRIPTION:Elmiene – Sounds for Someone Tour⁣⁣\n⁣⁣\nSun • May 31\, 2026 • 7:00 PM⁣⁣\n⁣⁣\nThe Wiltern ⁣⁣\nLos Angeles\, CA⁣⁣
URL:https://lahiphopevents.com/event/elmiene-sounds-for-someone-tour-live-in-la/
LOCATION:The Wiltern | Los Angeles\, 3790 Wilshire Blvd\, Los Angeles\, CA\, 90010\, United States
CATEGORIES:Concert,DTLA,Events,LA Nightlife,Music,RnB,Soul/Funk,Tour
ATTACH;FMTTYPE=image/jpeg:https://lahiphopevents.com/wp-content/uploads/2026/01/Elmiene.jpg
GEO:34.0619389;-118.3088392
X-APPLE-STRUCTURED-LOCATION;VALUE=URI;X-ADDRESS=The Wiltern | Los Angeles 3790 Wilshire Blvd Los Angeles CA 90010 United States;X-APPLE-RADIUS=500;X-TITLE=3790 Wilshire Blvd:geo:-118.3088392,34.0619389
END:VEVENT
BEGIN:VEVENT
DTSTART;TZID=America/Los_Angeles:20260531T200000
DTEND;TZID=America/Los_Angeles:20260531T200000
DTSTAMP:20260420T001739
CREATED:20260115T230359Z
LAST-MODIFIED:20260131T165856Z
UID:10004354-1780257600-1780257600@lahiphopevents.com
SUMMARY:Juvenile – Boiling Point Album Release Tour
DESCRIPTION:Goldenvoice Presents⁣\nJuvenile⁣\nBoiling Point Album Release Tour / ⁣\nwith The 400 Degreez Band & Special Guests⁣\n⁣\nSun May 31\, 2026 – 8:00 PM⁣\nAges: All Ages⁣\n⁣\nThe Novo⁣\nLos Angeles\, CA⁣\n⁣
URL:https://lahiphopevents.com/event/juvenile-boiling-point-album-release-tour/
LOCATION:The Novo DTLA | Los Angeles\, 800 W Olympic Blvd\, Los Angeles\, CA\, 90015\, United States
CATEGORIES:Concert,Hip Hop,Hip Hop Community,LA Hip Hop Events,LA Live Show,LA Nightlife,Los Angeles Events,Rap Concert
ATTACH;FMTTYPE=image/jpeg:https://lahiphopevents.com/wp-content/uploads/2026/01/Juvenile-The-Novo-2026-.jpg
GEO:34.0447954;-118.2652703
X-APPLE-STRUCTURED-LOCATION;VALUE=URI;X-ADDRESS=The Novo DTLA | Los Angeles 800 W Olympic Blvd Los Angeles CA 90015 United States;X-APPLE-RADIUS=500;X-TITLE=800 W Olympic Blvd:geo:-118.2652703,34.0447954
END:VEVENT
END:VCALENDAR