BEGIN:VCALENDAR
VERSION:2.0
PRODID:-//LA HIP HOP EVENTS - ECPv6.15.20//NONSGML v1.0//EN
CALSCALE:GREGORIAN
METHOD:PUBLISH
X-WR-CALNAME:LA HIP HOP EVENTS
X-ORIGINAL-URL:https://lahiphopevents.com
X-WR-CALDESC:Events for LA HIP HOP EVENTS
REFRESH-INTERVAL;VALUE=DURATION:PT1H
X-Robots-Tag:noindex
X-PUBLISHED-TTL:PT1H
BEGIN:VTIMEZONE
TZID:America/Los_Angeles
BEGIN:DAYLIGHT
TZOFFSETFROM:-0800
TZOFFSETTO:-0700
TZNAME:PDT
DTSTART:20240310T100000
END:DAYLIGHT
BEGIN:STANDARD
TZOFFSETFROM:-0700
TZOFFSETTO:-0800
TZNAME:PST
DTSTART:20241103T090000
END:STANDARD
BEGIN:DAYLIGHT
TZOFFSETFROM:-0800
TZOFFSETTO:-0700
TZNAME:PDT
DTSTART:20250309T100000
END:DAYLIGHT
BEGIN:STANDARD
TZOFFSETFROM:-0700
TZOFFSETTO:-0800
TZNAME:PST
DTSTART:20251102T090000
END:STANDARD
BEGIN:DAYLIGHT
TZOFFSETFROM:-0800
TZOFFSETTO:-0700
TZNAME:PDT
DTSTART:20260308T100000
END:DAYLIGHT
BEGIN:STANDARD
TZOFFSETFROM:-0700
TZOFFSETTO:-0800
TZNAME:PST
DTSTART:20261101T090000
END:STANDARD
END:VTIMEZONE
BEGIN:VEVENT
DTSTART;TZID=America/Los_Angeles:20251216T193000
DTEND;TZID=America/Los_Angeles:20251216T193000
DTSTAMP:20260422T190425
CREATED:20251122T030646Z
LAST-MODIFIED:20251202T150631Z
UID:10004274-1765913400-1765913400@lahiphopevents.com
SUMMARY:An Evening With Kehlani at the GRAMMY Museum
DESCRIPTION:GRAMMY MUSEUM⁣\n⁣\nAn Evening With Kehlani⁣\n⁣\nTue\, Dec 16\, 2025 at 7:30 PM⁣\n⁣\nGRAMMY MUSEUM⁣\n800 W Olympic Blvd⁣\nLos Angeles\, CA 90015⁣\n⁣\n⁣
URL:https://lahiphopevents.com/event/an-evening-with-kehlani-at-the-grammy-museum/
LOCATION:GRAMMY Museum | Los Angeles\, 800 W Olympic Blvd A245\, Los Angeles\, CA 90015\, Los Angeles\, CA\, 90015\, United States
CATEGORIES:Artist Talks,Los Angeles Events,Music,RnB
ATTACH;FMTTYPE=image/jpeg:https://lahiphopevents.com/wp-content/uploads/2025/11/Kehlani-Grammy-Museum.jpg
GEO:34.0449376;-118.2654979
X-APPLE-STRUCTURED-LOCATION;VALUE=URI;X-ADDRESS=GRAMMY Museum | Los Angeles 800 W Olympic Blvd A245 Los Angeles CA 90015 Los Angeles CA 90015 United States;X-APPLE-RADIUS=500;X-TITLE=800 W Olympic Blvd A245\, Los Angeles\, CA 90015:geo:-118.2654979,34.0449376
END:VEVENT
END:VCALENDAR