BEGIN:VCALENDAR
VERSION:2.0
PRODID:-//LA HIP HOP EVENTS - ECPv6.15.20//NONSGML v1.0//EN
CALSCALE:GREGORIAN
METHOD:PUBLISH
X-ORIGINAL-URL:https://lahiphopevents.com
X-WR-CALDESC:Events for LA HIP HOP EVENTS
REFRESH-INTERVAL;VALUE=DURATION:PT1H
X-Robots-Tag:noindex
X-PUBLISHED-TTL:PT1H
BEGIN:VTIMEZONE
TZID:America/Los_Angeles
BEGIN:DAYLIGHT
TZOFFSETFROM:-0800
TZOFFSETTO:-0700
TZNAME:PDT
DTSTART:20240310T100000
END:DAYLIGHT
BEGIN:STANDARD
TZOFFSETFROM:-0700
TZOFFSETTO:-0800
TZNAME:PST
DTSTART:20241103T090000
END:STANDARD
BEGIN:DAYLIGHT
TZOFFSETFROM:-0800
TZOFFSETTO:-0700
TZNAME:PDT
DTSTART:20250309T100000
END:DAYLIGHT
BEGIN:STANDARD
TZOFFSETFROM:-0700
TZOFFSETTO:-0800
TZNAME:PST
DTSTART:20251102T090000
END:STANDARD
BEGIN:DAYLIGHT
TZOFFSETFROM:-0800
TZOFFSETTO:-0700
TZNAME:PDT
DTSTART:20260308T100000
END:DAYLIGHT
BEGIN:STANDARD
TZOFFSETFROM:-0700
TZOFFSETTO:-0800
TZNAME:PST
DTSTART:20261101T090000
END:STANDARD
BEGIN:DAYLIGHT
TZOFFSETFROM:-0800
TZOFFSETTO:-0700
TZNAME:PDT
DTSTART:20270314T100000
END:DAYLIGHT
BEGIN:STANDARD
TZOFFSETFROM:-0700
TZOFFSETTO:-0800
TZNAME:PST
DTSTART:20271107T090000
END:STANDARD
END:VTIMEZONE
BEGIN:VEVENT
DTSTART;TZID=America/Los_Angeles:20250824T150000
DTEND;TZID=America/Los_Angeles:20250824T230000
DTSTAMP:20260424T025334
CREATED:20250816T215156Z
LAST-MODIFIED:20250818T223828Z
UID:10004077-1756047600-1756076400@lahiphopevents.com
SUMMARY:FREE EVENT! Trey Songz\, Ray J\, Eric Bellinger\, Kid Ink\, & More!
DESCRIPTION:FREE EVENT! \nHOPELESS HEARTS ROUND 2 \nSunday August 24th @ Pershing Square in LA \nLive Performances By: \n– TREY SONGZ \n– RAY J \n– ERIC BELLINGER \n– KID INK \n– DANILEIGH \n& MORE \nEVERYBODY FREE w/ RSVP! \n(Must be 21+ w/ Valid ID) \n$20 VIP TICKETS (ACCESS TO PIT – FRONT STAGE) ((((BEST DEAL)))) \nVIP TICKETS GUARANTEES ENTRY! \nFULLY STOCKED BARS\, FOOD TRUCKS\, & ART VENDORS! \nSTARTS AT 3PM \nwww.RnbConcert.com \nTicket Information 562-755-9913 \nIMPORTANT \nThe event operates on a first-come\, first-served basis. While your RSVP grants you the opportunity to attend\, we encourage you to arrive early to secure your spot. The venue has limited capacity\, and once it reaches its maximum occupancy\, entry will be denied. We look forward to hosting you at the event. Thank you.
URL:https://lahiphopevents.com/event/free-event-trey-songz-ray-j-eric-bellinger-kid-ink-more/
LOCATION:Pershing Square | Los Angeles\, 532 South Olive Street\, Los Angeles\, CA\, 90013\, United States
CATEGORIES:BET Awards,DTLA,Events,Festival,Hip Hop,Hip Hop Community
ATTACH;FMTTYPE=image/jpeg:https://lahiphopevents.com/wp-content/uploads/2025/08/Hopeless-Hearts-.jpg
GEO:34.0485582;-118.2532873
X-APPLE-STRUCTURED-LOCATION;VALUE=URI;X-ADDRESS=Pershing Square | Los Angeles 532 South Olive Street Los Angeles CA 90013 United States;X-APPLE-RADIUS=500;X-TITLE=532 South Olive Street:geo:-118.2532873,34.0485582
END:VEVENT
BEGIN:VEVENT
DTSTART;TZID=America/Los_Angeles:20260626T170000
DTEND;TZID=America/Los_Angeles:20260626T235900
DTSTAMP:20260424T025334
CREATED:20260424T073410Z
LAST-MODIFIED:20260424T073410Z
UID:10004811-1782493200-1782518340@lahiphopevents.com
SUMMARY:BETX Experience Fan Fest 2026 at BeeHive
DESCRIPTION:BET Experience – Fan Fest General Admission⁣\n⁣\nFri\, Jun 26th\, 2026 – Sat\, Jun 27th\, 2026⁣\n5:00 PM – 11:59 PM ⁣\n⁣\nBeeHive SOLA⁣\nLos Angeles\, CA⁣\n⁣\nEVENT DETAILS⁣\n⁣\nDay 1: ⁣\n⁣\nYour FAN FEST tickets include⁣\n⁣\nGeneral admission viewing across all stages⁣\nAccess to The Gaming House⁣\nEntry to the Activation Village featuring sponsor⁣\nexperiences and interactive moments⁣\nAccess to “The Kitchen” food village ⁣\nRegistering for free admission does not guarantee entry. Entry is first come\, first served and subject to capacity.⁣\n⁣\nMinors must be accompanied by a parent\, legal guardian\, or adult supervisor at all times during BETX 2026.⁣\n⁣\n*The Celebrity Basketball Game taking place on Thursday\, June 25 at USC Galen Center\, LA
URL:https://lahiphopevents.com/event/betx-experience-fan-fest-2026-at-beehive/
LOCATION:BeeHive SOLA⁣| Los Angeles\, 1000 East 60th Street\, Los Angeles\, CA\, 90001\, United States
CATEGORIES:BET Awards,BET Awards Weekend,BET Experience,BETX Fan Fest
ATTACH;FMTTYPE=image/jpeg:https://lahiphopevents.com/wp-content/uploads/2026/04/BETX-Experience-2026.jpg
GEO:33.985618;-118.257463
X-APPLE-STRUCTURED-LOCATION;VALUE=URI;X-ADDRESS=BeeHive SOLA⁣| Los Angeles 1000 East 60th Street Los Angeles CA 90001 United States;X-APPLE-RADIUS=500;X-TITLE=1000 East 60th Street:geo:-118.257463,33.985618
END:VEVENT
END:VCALENDAR