BEGIN:VCALENDAR
VERSION:2.0
PRODID:-//LA HIP HOP EVENTS - ECPv6.15.20//NONSGML v1.0//EN
CALSCALE:GREGORIAN
METHOD:PUBLISH
X-ORIGINAL-URL:https://lahiphopevents.com
X-WR-CALDESC:Events for LA HIP HOP EVENTS
REFRESH-INTERVAL;VALUE=DURATION:PT1H
X-Robots-Tag:noindex
X-PUBLISHED-TTL:PT1H
BEGIN:VTIMEZONE
TZID:America/Los_Angeles
BEGIN:DAYLIGHT
TZOFFSETFROM:-0800
TZOFFSETTO:-0700
TZNAME:PDT
DTSTART:20250309T100000
END:DAYLIGHT
BEGIN:STANDARD
TZOFFSETFROM:-0700
TZOFFSETTO:-0800
TZNAME:PST
DTSTART:20251102T090000
END:STANDARD
BEGIN:DAYLIGHT
TZOFFSETFROM:-0800
TZOFFSETTO:-0700
TZNAME:PDT
DTSTART:20260308T100000
END:DAYLIGHT
BEGIN:STANDARD
TZOFFSETFROM:-0700
TZOFFSETTO:-0800
TZNAME:PST
DTSTART:20261101T090000
END:STANDARD
BEGIN:DAYLIGHT
TZOFFSETFROM:-0800
TZOFFSETTO:-0700
TZNAME:PDT
DTSTART:20270314T100000
END:DAYLIGHT
BEGIN:STANDARD
TZOFFSETFROM:-0700
TZOFFSETTO:-0800
TZNAME:PST
DTSTART:20271107T090000
END:STANDARD
END:VTIMEZONE
BEGIN:VEVENT
DTSTART;TZID=America/Los_Angeles:20261008T200000
DTEND;TZID=America/Los_Angeles:20261008T200000
DTSTAMP:20260425T125609
CREATED:20260425T062029Z
LAST-MODIFIED:20260425T062029Z
UID:10004816-1791489600-1791489600@lahiphopevents.com
SUMMARY:The Pharcyde Live at bEATS Highland
DESCRIPTION:The Pharcyde⁣\n⁣\nThu Oct 8\, 2026 – 8:00 PM⁣\nAges: 21 & Over⁣\n⁣\nbEATS⁣\nHighland\, CA⁣
URL:https://lahiphopevents.com/event/the-pharcyde-live-at-beats-highland/
LOCATION:bEATS | Highland\, 777 San Manuel Boulevard South\, Highland\, 92346\, United States
CATEGORIES:Casino,Concert,Hip Hop,Hip Hop Community
ATTACH;FMTTYPE=image/jpeg:https://lahiphopevents.com/wp-content/uploads/2026/04/The-Pharcyde.jpg
GEO:34.1507382;-117.2286371
X-APPLE-STRUCTURED-LOCATION;VALUE=URI;X-ADDRESS=bEATS | Highland 777 San Manuel Boulevard South Highland 92346 United States;X-APPLE-RADIUS=500;X-TITLE=777 San Manuel Boulevard South:geo:-117.2286371,34.1507382
END:VEVENT
END:VCALENDAR