BEGIN:VCALENDAR
VERSION:2.0
PRODID:-//LA HIP HOP EVENTS - ECPv6.15.20//NONSGML v1.0//EN
CALSCALE:GREGORIAN
METHOD:PUBLISH
X-ORIGINAL-URL:https://lahiphopevents.com
X-WR-CALDESC:Events for LA HIP HOP EVENTS
REFRESH-INTERVAL;VALUE=DURATION:PT1H
X-Robots-Tag:noindex
X-PUBLISHED-TTL:PT1H
BEGIN:VTIMEZONE
TZID:America/Los_Angeles
BEGIN:DAYLIGHT
TZOFFSETFROM:-0800
TZOFFSETTO:-0700
TZNAME:PDT
DTSTART:20240310T100000
END:DAYLIGHT
BEGIN:STANDARD
TZOFFSETFROM:-0700
TZOFFSETTO:-0800
TZNAME:PST
DTSTART:20241103T090000
END:STANDARD
BEGIN:DAYLIGHT
TZOFFSETFROM:-0800
TZOFFSETTO:-0700
TZNAME:PDT
DTSTART:20250309T100000
END:DAYLIGHT
BEGIN:STANDARD
TZOFFSETFROM:-0700
TZOFFSETTO:-0800
TZNAME:PST
DTSTART:20251102T090000
END:STANDARD
BEGIN:DAYLIGHT
TZOFFSETFROM:-0800
TZOFFSETTO:-0700
TZNAME:PDT
DTSTART:20260308T100000
END:DAYLIGHT
BEGIN:STANDARD
TZOFFSETFROM:-0700
TZOFFSETTO:-0800
TZNAME:PST
DTSTART:20261101T090000
END:STANDARD
END:VTIMEZONE
BEGIN:VEVENT
DTSTART;TZID=America/Los_Angeles:20251213T200000
DTEND;TZID=America/Los_Angeles:20251213T200000
DTSTAMP:20260423T113705
CREATED:20251010T072926Z
LAST-MODIFIED:20251010T073105Z
UID:10004191-1765656000-1765656000@lahiphopevents.com
SUMMARY:Big Boy’s Comedy Kings – Yaamava’ Theater
DESCRIPTION:Big Boy’s Comedy Kings⁣⁣\nHosted by Big Boy / ⁣⁣\nAppearances by Gabriel Iglesias\, Cedric ‘The Entertainer’\, and Eric Blake⁣⁣\n⁣⁣\nSAT DEC 13\, 2025 – 8:00 PM⁣⁣\nAges: 21 & Over⁣⁣\n⁣⁣\nYaamava’ Theater⁣⁣\nHighland\, CA⁣⁣
URL:https://lahiphopevents.com/event/big-boys-comedy-kings-yaamava-theater/
LOCATION:Yaamava’ Theater | Highland\, 777 San Manuel Blvd\, Highland\, CA\, 92346\, United States
CATEGORIES:Casino,Comedy
ATTACH;FMTTYPE=image/jpeg:https://lahiphopevents.com/wp-content/uploads/2025/10/Big-Boys-Comedy-Kings.jpg
GEO:34.1576681;-117.2226924
X-APPLE-STRUCTURED-LOCATION;VALUE=URI;X-ADDRESS=Yaamava’ Theater | Highland 777 San Manuel Blvd Highland CA 92346 United States;X-APPLE-RADIUS=500;X-TITLE=777 San Manuel Blvd:geo:-117.2226924,34.1576681
END:VEVENT
BEGIN:VEVENT
DTSTART;TZID=America/Los_Angeles:20251228T183000
DTEND;TZID=America/Los_Angeles:20251228T183000
DTSTAMP:20260423T113705
CREATED:20251016T194436Z
LAST-MODIFIED:20251016T194436Z
UID:10004205-1766946600-1766946600@lahiphopevents.com
SUMMARY:Corey Holcomb: The 5150 Industry Repo Show
DESCRIPTION:Corey Holcomb: The 5150 Industry Repo Show⁣\n⁣\nSun • Dec 28\, 2025 • 6:30 PM⁣\n⁣\nHouse of Blues Anaheim⁣\nAnaheim\, CA⁣
URL:https://lahiphopevents.com/event/corey-holcomb-the-5150-industry-repo-show/
LOCATION:House of Blues Anaheim | Anaheim\, 400 Disney Way Suite 337\, Anaheim\, CA\, 92802\, United States
CATEGORIES:Anaheim,Comedy
ATTACH;FMTTYPE=image/jpeg:https://lahiphopevents.com/wp-content/uploads/2025/10/Corey-Holcomb-5150-Show.jpg
GEO:33.8061819;-117.9119827
X-APPLE-STRUCTURED-LOCATION;VALUE=URI;X-ADDRESS=House of Blues Anaheim | Anaheim 400 Disney Way Suite 337 Anaheim CA 92802 United States;X-APPLE-RADIUS=500;X-TITLE=400 Disney Way Suite 337:geo:-117.9119827,33.8061819
END:VEVENT
END:VCALENDAR