BEGIN:VCALENDAR
VERSION:2.0
PRODID:-//LA HIP HOP EVENTS - ECPv6.15.20//NONSGML v1.0//EN
CALSCALE:GREGORIAN
METHOD:PUBLISH
X-ORIGINAL-URL:https://lahiphopevents.com
X-WR-CALDESC:Events for LA HIP HOP EVENTS
REFRESH-INTERVAL;VALUE=DURATION:PT1H
X-Robots-Tag:noindex
X-PUBLISHED-TTL:PT1H
BEGIN:VTIMEZONE
TZID:America/Los_Angeles
BEGIN:DAYLIGHT
TZOFFSETFROM:-0800
TZOFFSETTO:-0700
TZNAME:PDT
DTSTART:20230312T100000
END:DAYLIGHT
BEGIN:STANDARD
TZOFFSETFROM:-0700
TZOFFSETTO:-0800
TZNAME:PST
DTSTART:20231105T090000
END:STANDARD
BEGIN:DAYLIGHT
TZOFFSETFROM:-0800
TZOFFSETTO:-0700
TZNAME:PDT
DTSTART:20240310T100000
END:DAYLIGHT
BEGIN:STANDARD
TZOFFSETFROM:-0700
TZOFFSETTO:-0800
TZNAME:PST
DTSTART:20241103T090000
END:STANDARD
BEGIN:DAYLIGHT
TZOFFSETFROM:-0800
TZOFFSETTO:-0700
TZNAME:PDT
DTSTART:20250309T100000
END:DAYLIGHT
BEGIN:STANDARD
TZOFFSETFROM:-0700
TZOFFSETTO:-0800
TZNAME:PST
DTSTART:20251102T090000
END:STANDARD
END:VTIMEZONE
BEGIN:VEVENT
DTSTART;TZID=America/Los_Angeles:20240812T210000
DTEND;TZID=America/Los_Angeles:20240812T210000
DTSTAMP:20260422T215546
CREATED:20240722T143514Z
LAST-MODIFIED:20240722T144418Z
UID:10003254-1723496400-1723496400@lahiphopevents.com
SUMMARY:Improv Presents: MONDERAYS with Deray Davis & more at Hollywood Improv\, Hollywood
DESCRIPTION:Improv Presents: MONDERAYS with Deray Davis & more!\n[spacer height=”20px”] \nMon Aug 12 2024⁣\n9:30 PM (Doors 9:00 PM)⁣\n⁣\nHollywood Improv (The Main Room)⁣\n8162 Melrose Avenue⁣\nHollywood\, CA 90046⁣\n⁣\nSee Tickets link for prices⁣\nAges 21+⁣
URL:https://lahiphopevents.com/event/improv-presents-monderays-with-deray-davis-more-at-hollywood-improv-hollywood/
LOCATION:Hollywood Improv | Los Angeles\, 8162 Melrose Ave\, Los Angeles\, CA\, 90046\, United States
CATEGORIES:Comedy
ATTACH;FMTTYPE=image/jpeg:https://lahiphopevents.com/wp-content/uploads/2024/07/monderays-2-2-2.jpg
GEO:34.0834638;-118.36743
X-APPLE-STRUCTURED-LOCATION;VALUE=URI;X-ADDRESS=Hollywood Improv | Los Angeles 8162 Melrose Ave Los Angeles CA 90046 United States;X-APPLE-RADIUS=500;X-TITLE=8162 Melrose Ave:geo:-118.36743,34.0834638
END:VEVENT
BEGIN:VEVENT
DTSTART;TZID=America/Los_Angeles:20240817T200000
DTEND;TZID=America/Los_Angeles:20240817T200000
DTSTAMP:20260422T215547
CREATED:20240528T175618Z
LAST-MODIFIED:20240817T221946Z
UID:10003103-1723924800-1723924800@lahiphopevents.com
SUMMARY:Martin Lawrence || Yaamava' Theater\, Highland
DESCRIPTION:Martin Lawrence\n\n\n\n\n\n\nYaamava’ Theater \n777 San Manuel Blvd\nHighland\, CA 92346\n\n\n\nSAT AUG 17\, 2024 – 8:00 PM \nAges: 21 & Over\nDoors Open: 7:00 PM
URL:https://lahiphopevents.com/event/martin-lawrence-yaamava-theater-highland/
LOCATION:Yaamava’ Theater | Highland\, 777 San Manuel Blvd\, Highland\, CA\, 92346\, United States
CATEGORIES:Comedy
ATTACH;FMTTYPE=image/jpeg:https://lahiphopevents.com/wp-content/uploads/2024/05/MartinLawrence-600x600-1.jpg
GEO:34.1576681;-117.2226924
X-APPLE-STRUCTURED-LOCATION;VALUE=URI;X-ADDRESS=Yaamava’ Theater | Highland 777 San Manuel Blvd Highland CA 92346 United States;X-APPLE-RADIUS=500;X-TITLE=777 San Manuel Blvd:geo:-117.2226924,34.1576681
END:VEVENT
END:VCALENDAR