BEGIN:VCALENDAR
VERSION:2.0
PRODID:-//LA HIP HOP EVENTS - ECPv6.15.20//NONSGML v1.0//EN
CALSCALE:GREGORIAN
METHOD:PUBLISH
X-ORIGINAL-URL:https://lahiphopevents.com
X-WR-CALDESC:Events for LA HIP HOP EVENTS
REFRESH-INTERVAL;VALUE=DURATION:PT1H
X-Robots-Tag:noindex
X-PUBLISHED-TTL:PT1H
BEGIN:VTIMEZONE
TZID:America/Los_Angeles
BEGIN:DAYLIGHT
TZOFFSETFROM:-0800
TZOFFSETTO:-0700
TZNAME:PDT
DTSTART:20240310T100000
END:DAYLIGHT
BEGIN:STANDARD
TZOFFSETFROM:-0700
TZOFFSETTO:-0800
TZNAME:PST
DTSTART:20241103T090000
END:STANDARD
BEGIN:DAYLIGHT
TZOFFSETFROM:-0800
TZOFFSETTO:-0700
TZNAME:PDT
DTSTART:20250309T100000
END:DAYLIGHT
BEGIN:STANDARD
TZOFFSETFROM:-0700
TZOFFSETTO:-0800
TZNAME:PST
DTSTART:20251102T090000
END:STANDARD
BEGIN:DAYLIGHT
TZOFFSETFROM:-0800
TZOFFSETTO:-0700
TZNAME:PDT
DTSTART:20260308T100000
END:DAYLIGHT
BEGIN:STANDARD
TZOFFSETFROM:-0700
TZOFFSETTO:-0800
TZNAME:PST
DTSTART:20261101T090000
END:STANDARD
END:VTIMEZONE
BEGIN:VEVENT
DTSTART;TZID=America/Los_Angeles:20250622T190000
DTEND;TZID=America/Los_Angeles:20250622T190000
DTSTAMP:20260421T013043
CREATED:20250128T072623Z
LAST-MODIFIED:20250128T072623Z
UID:10003636-1750618800-1750618800@lahiphopevents.com
SUMMARY:Godfrey Live in Ontario at Ontario Improv
DESCRIPTION:Godfrey⁣⁣⁣⁣⁣\n⁣⁣⁣⁣⁣⁣⁣⁣⁣⁣⁣\nSun Jun 22 2025⁣\n7:00 PM (Doors 5:30 PM)⁣\n⁣⁣⁣⁣⁣\nOntario Improv⁣⁣⁣⁣⁣\n4555 Mills Cir⁣⁣⁣⁣⁣\nOntario\, CA 91764⁣⁣⁣⁣⁣\n⁣⁣⁣⁣⁣\n$31.14 – $49.22⁣⁣⁣⁣⁣\nAges 21+⁣⁣⁣⁣⁣\n⁣⁣⁣⁣\nGodfrey’s Bio⁣⁣⁣⁣\n⁣⁣⁣⁣\nGODFREY is one of the hottest and most versatile comedians on the circuit today. His hilarious one hour stand-up special Regular Black premiered on Showtime in August. This month\, he can be seen recurring in Adult Swim’s “Neon Joe\, Werewolf Hunter.” Godfrey recently filmed a hysterical gameshow called “Trivia Crack\,” based on the best-selling gaming app of the same name which was produced by Dr. Phil’s company. In the Summer 2015 Godfrey entertained millions as the co-host of Fox’s highly received Bullseye opposite Kellen Lutz. He regularly appears as a guest on such shows as “The Nightly Show with Larry Wilmore\,” Howard Stern’s “The Wrap Up Show” and Marc Maron’s podcast “wtf” and Godfrey has recurring roles on such scripted shows as “Louie” for FX and “Benders” for IFC. Godfrey played the lead in a pilot for FX called “Bronx Warrants” and developed an animated pilot for FOX that was based on his comedy act. His one man show called “The Godfrey Complex” was a major hit at the Just For Laughs festival in Montreal\, from which GQ Magazine said that Godfrey “is set to be one of the biggest performers in the US in 12 months\,” following his run at the festival. Godfrey’s one-hour special for Comedy Central\, “Godfrey: Black By Accident” is a great example of his skills as a stand up. Godfrey’s feature credits include “Zoolander\,” “Soul Plane\,” and the upcoming indie “Three Days in Vegas” opposite Nic Cage.
URL:https://lahiphopevents.com/event/godfrey-live-in-ontario-at-ontario-improv-4/
LOCATION:Ontario Improv | Ontario\, 4555 Mills Cir\, Ontario\, CA\, 91764\, United States
CATEGORIES:Comedy,Ontario
ATTACH;FMTTYPE=image/jpeg:https://lahiphopevents.com/wp-content/uploads/2025/01/Godfrey-e1738013154356.jpg
GEO:34.0741969;-117.5518404
X-APPLE-STRUCTURED-LOCATION;VALUE=URI;X-ADDRESS=Ontario Improv | Ontario 4555 Mills Cir Ontario CA 91764 United States;X-APPLE-RADIUS=500;X-TITLE=4555 Mills Cir:geo:-117.5518404,34.0741969
END:VEVENT
END:VCALENDAR