BEGIN:VCALENDAR
VERSION:2.0
PRODID:-//LA HIP HOP EVENTS - ECPv6.15.20//NONSGML v1.0//EN
CALSCALE:GREGORIAN
METHOD:PUBLISH
X-ORIGINAL-URL:https://lahiphopevents.com
X-WR-CALDESC:Events for LA HIP HOP EVENTS
REFRESH-INTERVAL;VALUE=DURATION:PT1H
X-Robots-Tag:noindex
X-PUBLISHED-TTL:PT1H
BEGIN:VTIMEZONE
TZID:America/Los_Angeles
BEGIN:DAYLIGHT
TZOFFSETFROM:-0800
TZOFFSETTO:-0700
TZNAME:PDT
DTSTART:20240310T100000
END:DAYLIGHT
BEGIN:STANDARD
TZOFFSETFROM:-0700
TZOFFSETTO:-0800
TZNAME:PST
DTSTART:20241103T090000
END:STANDARD
BEGIN:DAYLIGHT
TZOFFSETFROM:-0800
TZOFFSETTO:-0700
TZNAME:PDT
DTSTART:20250309T100000
END:DAYLIGHT
BEGIN:STANDARD
TZOFFSETFROM:-0700
TZOFFSETTO:-0800
TZNAME:PST
DTSTART:20251102T090000
END:STANDARD
BEGIN:DAYLIGHT
TZOFFSETFROM:-0800
TZOFFSETTO:-0700
TZNAME:PDT
DTSTART:20260308T100000
END:DAYLIGHT
BEGIN:STANDARD
TZOFFSETFROM:-0700
TZOFFSETTO:-0800
TZNAME:PST
DTSTART:20261101T090000
END:STANDARD
END:VTIMEZONE
BEGIN:VEVENT
DTSTART;TZID=America/Los_Angeles:20250712T200000
DTEND;TZID=America/Los_Angeles:20250712T200000
DTSTAMP:20260421T030359
CREATED:20250312T060603Z
LAST-MODIFIED:20250312T060603Z
UID:10003725-1752350400-1752350400@lahiphopevents.com
SUMMARY:Eddie Griffin⁣ Live at Yaamava' Theater\,⁣ Highland
DESCRIPTION:Eddie Griffin⁣\n⁣\nSat Jul 12\, 2025 – 8:00 PM⁣\nAges: 21 & Over⁣\n⁣\nYaamava’ Theater⁣\nHighland\, CA⁣ \nClick here for more events.
URL:https://lahiphopevents.com/event/eddie-griffin%e2%81%a3-live-at-yaamava-theater%e2%81%a3-highland/
LOCATION:Yaamava’ Theater | Highland\, 777 San Manuel Blvd\, Highland\, CA\, 92346\, United States
CATEGORIES:Comedy
ATTACH;FMTTYPE=image/jpeg:https://lahiphopevents.com/wp-content/uploads/2025/03/Eddie-Griffin.jpg
GEO:34.1576681;-117.2226924
X-APPLE-STRUCTURED-LOCATION;VALUE=URI;X-ADDRESS=Yaamava’ Theater | Highland 777 San Manuel Blvd Highland CA 92346 United States;X-APPLE-RADIUS=500;X-TITLE=777 San Manuel Blvd:geo:-117.2226924,34.1576681
END:VEVENT
END:VCALENDAR