BEGIN:VCALENDAR
VERSION:2.0
PRODID:-//LA HIP HOP EVENTS - ECPv6.15.20//NONSGML v1.0//EN
CALSCALE:GREGORIAN
METHOD:PUBLISH
X-WR-CALNAME:LA HIP HOP EVENTS
X-ORIGINAL-URL:https://lahiphopevents.com
X-WR-CALDESC:Events for LA HIP HOP EVENTS
REFRESH-INTERVAL;VALUE=DURATION:PT1H
X-Robots-Tag:noindex
X-PUBLISHED-TTL:PT1H
BEGIN:VTIMEZONE
TZID:America/Los_Angeles
BEGIN:DAYLIGHT
TZOFFSETFROM:-0800
TZOFFSETTO:-0700
TZNAME:PDT
DTSTART:20240310T100000
END:DAYLIGHT
BEGIN:STANDARD
TZOFFSETFROM:-0700
TZOFFSETTO:-0800
TZNAME:PST
DTSTART:20241103T090000
END:STANDARD
BEGIN:DAYLIGHT
TZOFFSETFROM:-0800
TZOFFSETTO:-0700
TZNAME:PDT
DTSTART:20250309T100000
END:DAYLIGHT
BEGIN:STANDARD
TZOFFSETFROM:-0700
TZOFFSETTO:-0800
TZNAME:PST
DTSTART:20251102T090000
END:STANDARD
BEGIN:DAYLIGHT
TZOFFSETFROM:-0800
TZOFFSETTO:-0700
TZNAME:PDT
DTSTART:20260308T100000
END:DAYLIGHT
BEGIN:STANDARD
TZOFFSETFROM:-0700
TZOFFSETTO:-0800
TZNAME:PST
DTSTART:20261101T090000
END:STANDARD
END:VTIMEZONE
BEGIN:VEVENT
DTSTART;TZID=America/Los_Angeles:20250801T200000
DTEND;TZID=America/Los_Angeles:20250801T200000
DTSTAMP:20260420T221152
CREATED:20250220T184616Z
LAST-MODIFIED:20250220T184616Z
UID:10003676-1754078400-1754078400@lahiphopevents.com
SUMMARY:Tiffany Haddish⁣ The Funny and Fearless Tour⁣ Live at Yaamava' Theater⁣\, Highland
DESCRIPTION:Tiffany Haddish⁣\nThe Funny and Fearless Tour⁣\n⁣\nFri Aug 1\, 2025 – 8:00 PM⁣\n⁣\nYaamava’ Theater⁣\n777 San Manuel Blvd⁣\nHighland\, CA\, 92346⁣\n⁣
URL:https://lahiphopevents.com/event/tiffany-haddish%e2%81%a3-the-funny-and-fearless-tour%e2%81%a3-live-at-yaamava-theater%e2%81%a3-highland/
LOCATION:Yaamava’ Theater | Highland\, 777 San Manuel Blvd\, Highland\, CA\, 92346\, United States
CATEGORIES:Comedy
ATTACH;FMTTYPE=image/jpeg:https://lahiphopevents.com/wp-content/uploads/2025/02/Tiffany-Haddish-e1740077080677.jpg
GEO:34.1576681;-117.2226924
X-APPLE-STRUCTURED-LOCATION;VALUE=URI;X-ADDRESS=Yaamava’ Theater | Highland 777 San Manuel Blvd Highland CA 92346 United States;X-APPLE-RADIUS=500;X-TITLE=777 San Manuel Blvd:geo:-117.2226924,34.1576681
END:VEVENT
END:VCALENDAR