BEGIN:VCALENDAR
VERSION:2.0
PRODID:-//LA HIP HOP EVENTS - ECPv6.15.20//NONSGML v1.0//EN
CALSCALE:GREGORIAN
METHOD:PUBLISH
X-ORIGINAL-URL:https://lahiphopevents.com
X-WR-CALDESC:Events for LA HIP HOP EVENTS
REFRESH-INTERVAL;VALUE=DURATION:PT1H
X-Robots-Tag:noindex
X-PUBLISHED-TTL:PT1H
BEGIN:VTIMEZONE
TZID:Africa/Abidjan
BEGIN:STANDARD
TZOFFSETFROM:+0000
TZOFFSETTO:+0000
TZNAME:GMT
DTSTART:20240101T000000
END:STANDARD
END:VTIMEZONE
BEGIN:VEVENT
DTSTART;TZID=Africa/Abidjan:20250930T200000
DTEND;TZID=Africa/Abidjan:20250930T233000
DTSTAMP:20260424T035226
CREATED:20250917T055226Z
LAST-MODIFIED:20250917T160426Z
UID:10004124-1759262400-1759275000@lahiphopevents.com
SUMMARY:"Everybody Loves Herb" Birthday Comedy Show
DESCRIPTION:Join us for a hilarious night of comedy celebrating Herb’s birthday – it’s a show that everyone will love!\n\n\nWelcome to the “Everybody Loves Herb” Birthday Comedy Show! Get ready to laugh until your sides hurt at this hilarious event taking place at Beetle House LA. Join us for a night of non-stop comedy as we celebrate Herb’s birthday in style. Sit back\, relax\, and enjoy the comedic talents of some of the funniest comedians in town. Don’t miss out on this one-of-a-kind event that promises to leave you in stitches. Grab your tickets now and get ready for a night of laughter and fun!
URL:https://lahiphopevents.com/event/everybody-loves-herb-birthday-comedy-show/
LOCATION:Beetle House LA | Los Angeles\, 7080 Hollywood Boulevard\, Los Angeles\, CA 90028\, Los Angeles\, CA\, 90028
CATEGORIES:Comedy
ATTACH;FMTTYPE=image/jpeg:https://lahiphopevents.com/wp-content/uploads/2025/09/Everybody-Loves-Herb-2025.jpg
GEO:34.1011108;-118.3446286
X-APPLE-STRUCTURED-LOCATION;VALUE=URI;X-ADDRESS=Beetle House LA | Los Angeles 7080 Hollywood Boulevard Los Angeles CA 90028 Los Angeles CA 90028;X-APPLE-RADIUS=500;X-TITLE=7080 Hollywood Boulevard\, Los Angeles\, CA 90028:geo:-118.3446286,34.1011108
END:VEVENT
END:VCALENDAR