BEGIN:VCALENDAR
VERSION:2.0
PRODID:-//LA HIP HOP EVENTS - ECPv6.15.20//NONSGML v1.0//EN
CALSCALE:GREGORIAN
METHOD:PUBLISH
X-ORIGINAL-URL:https://lahiphopevents.com
X-WR-CALDESC:Events for LA HIP HOP EVENTS
REFRESH-INTERVAL;VALUE=DURATION:PT1H
X-Robots-Tag:noindex
X-PUBLISHED-TTL:PT1H
BEGIN:VTIMEZONE
TZID:America/Los_Angeles
BEGIN:DAYLIGHT
TZOFFSETFROM:-0800
TZOFFSETTO:-0700
TZNAME:PDT
DTSTART:20230312T100000
END:DAYLIGHT
BEGIN:STANDARD
TZOFFSETFROM:-0700
TZOFFSETTO:-0800
TZNAME:PST
DTSTART:20231105T090000
END:STANDARD
BEGIN:DAYLIGHT
TZOFFSETFROM:-0800
TZOFFSETTO:-0700
TZNAME:PDT
DTSTART:20240310T100000
END:DAYLIGHT
BEGIN:STANDARD
TZOFFSETFROM:-0700
TZOFFSETTO:-0800
TZNAME:PST
DTSTART:20241103T090000
END:STANDARD
BEGIN:DAYLIGHT
TZOFFSETFROM:-0800
TZOFFSETTO:-0700
TZNAME:PDT
DTSTART:20250309T100000
END:DAYLIGHT
BEGIN:STANDARD
TZOFFSETFROM:-0700
TZOFFSETTO:-0800
TZNAME:PST
DTSTART:20251102T090000
END:STANDARD
END:VTIMEZONE
BEGIN:VEVENT
DTSTART;TZID=America/Los_Angeles:20240601T213000
DTEND;TZID=America/Los_Angeles:20240602T020000
DTSTAMP:20260422T213111
CREATED:20240525T062134Z
LAST-MODIFIED:20240527T065935Z
UID:10003099-1717277400-1717293600@lahiphopevents.com
SUMMARY:BOOMBOX || Grand Star Jazz Club\, Los Angeles
DESCRIPTION:BOOMBOX returns [SAT.6/1] with VOL.26 of our PRODUCER SHOWCASE series featuring heavyweights OH NO + JANSPORT J + RADIUS + TWIIN TOWERS!\n\n\nBOOMBOX is back [SAT.6/1] with VOL.26 of our PRODUCER SHOWCASE series! \nFor this edition we welcome certified underground icon OH NO + 3x Grammy nominated 626 legend JANSPORT J + nomadic Chicago heavyweight RADIUS + next-gen LA monsters TWIIN TOWERS!! \nWith these absolute beasts on the set\, it’s most certainly about to be one for the books! If you’ve been to one of our Producer Showcases before\, you know we are not responsible for any neck injuries sustained. \nRSVP here for discount entry if you’re about that life. This most certainly not the one to miss. \nDo not sleep\, Los Angeles! \n**BOOMBOX • 1ST SATURDAYS • EST. 2006**\n**HIP HOP\, BEATS\, BREAKS\, & BEYOND**\n**SATURDAY JUNE 1ST**\n**PRODUCER SHOWCASE VOL.26** \nSpecial Guests:\nOH NO [Gangrene | Nature Sounds | ALC]\nJANSPORT J [All Attraction\, No Chasin’ | Surf Club]\nRADIUS [ETC | Culture Power45 | Chicago]\nTWIIN TOWERS [2092 Funk Radio | Godwork] \nBoombox Soundsystem:\nINKA ONE [Beathackerz]\nBEN DIGGIN [Aztlan Monks]\nANALOG [Beathackerz]\nMANTRON [Electric Relaxation] \nLive Visuals:\nSICK DELICIOUS \nBOOMBOX | 1st Saturdays\nGrand Star Jazz Club\n943 N. Broadway\nLos Angeles\, CA 90012\nChinatown\n9:30pm-2am | 21 & over \n@BoomboxLA: Website | Twitch | Instagram | Facebook | Threads | X \nSince September 2nd\, 2006\, Boombox has provided a home for Los Angeles hip hop lovers to gather every first Saturday of the month and celebrate the genre’s most respected DJs and producers. Celebrating their 15-year anniversary in 2021\, they’ve gained a faithful following of music aficionados who all share one common trait: the love of hip hop culture. \nResidents Inka One\, Ben Diggin\, Analog\, and Mantron have created a signature sound and energy that is authentic\, inclusive\, and fiercely committed to promoting the culture and artistry that hip hop has blessed us with. For the past 17 years\, Boombox has given Los Angeles a home for hip hop connoisseurs who understand the importance of the DJ. Since its inception\, their mission has remained pure: to provide an honest hip hop/DJ-centric night that caters to the working-class crowd. No frills\, no shiny aesthetics; just the music and DJ skills speaking for themselves. \nBoombox has made an indelible impact on Los Angeles’ rich music culture and has helped introduce audiences to some of Los Angeles’ finest\, such as Flying Lotus and Blu\, while simultaneously giving Angelinos an opportunity to catch hip hop legends like Pete Rock\, DJ Quik\, Ali Shaheed Muhammed\, 9th Wonder\, Marley Marl\, Stretch & Bobbito\, Mix Master Mike\, & countless others. Boombox is a destination for the world’s best hip hop DJs to come play the music they love; it’s as simple as that. \nIn a time fraught with division\, Boombox stands tall as a Los Angeles staple where old friends unite\, where new ones are made\, and where all are welcomed and invited to experience a special night where the hip hop DJ shines.
URL:https://lahiphopevents.com/event/boombox-sat-6-1/
LOCATION:Grand Star Jazz Club | Los Angeles\, 943 N Broadway\, Los Angeles\, CA\, 90012\, United States
CATEGORIES:DJ
ATTACH;FMTTYPE=image/jpeg:https://lahiphopevents.com/wp-content/uploads/2024/05/boombox-la-june-2024-3.jpg
GEO:34.0652278;-118.2371211
X-APPLE-STRUCTURED-LOCATION;VALUE=URI;X-ADDRESS=Grand Star Jazz Club | Los Angeles 943 N Broadway Los Angeles CA 90012 United States;X-APPLE-RADIUS=500;X-TITLE=943 N Broadway:geo:-118.2371211,34.0652278
END:VEVENT
BEGIN:VEVENT
DTSTART;TZID=America/Los_Angeles:20240615T230000
DTEND;TZID=America/Los_Angeles:20240615T230000
DTSTAMP:20260422T213111
CREATED:20240614T155937Z
LAST-MODIFIED:20240614T155937Z
UID:10003156-1718492400-1718492400@lahiphopevents.com
SUMMARY:Patchez Circus LA || Secret DTLA Location
DESCRIPTION:MLC Prod\, Da ILL Spot & VIP Socio Presents \nPatchez Circus “The Freak Show” \nSecret DTLA Location | 21+ | Bring Singles! \n—————————————- \nHosts: \nPatchez | Ashley Rose \n—————————————- \nSounds: \nDoctor KA | DJ $amo | DJ ZU | Emeyecee | ER+O=3 | DJ Gloss | Closksyn | Velvette | LeSwndle \n—————————————- \nCircus Freaks: \nDewey The Clown | Bubblezz The Clown | Sinder | Shay Fire | Natsu | Sammy | Cyber | Phylistine Etienne | Warumono | Get Omar Now \n—————————————- \nDancers: \nAngela Genesis | Midnight | Bunny | KidTwist | Jiggly Senpai \n—————————————- \nArt: \nUnyenz | REBDUCE | Rd3 | Hippy Blaine | Angie Sircuss \n—————————————- \nMusic: \nBritt 11x The Human Chandelier | Roach Gang | FACEvsIT | Molli G | D’Duchess | Turtl | Poetik Force x Funk Logik | Leftworld | Paix Kid | KL33o100 | No Reaction | Shalom Little | FRNDLY \n—————————————- \nFashion: \nCourtney Purple | The Matrix | Iklektik Koture | Marnett Eleion Couture | Young Retro \n—————————————- \nVendors: \n360 Memori Photo Booth | Sugar Haze | Mooni Love Crystals & Tarot | Much Luv Creations | Da ILL Spot Apparel | 420 Axxessories | Wondering Whimsy Crafts | African Child Organics
URL:https://lahiphopevents.com/event/patchez-circus-la-secret-dtla-location/
LOCATION:Downtown Los Angeles | Los Angeles\, 1057 South San Pedro Street\, Los Angeles\, CA 90015\, Los Angeles\, CA\, 90015
CATEGORIES:Art,Culture,Dance,DJ,DTLA,Emcee,Fashion,Hip Hop,LA Live Show,Networking,Rap Concert
ATTACH;FMTTYPE=image/jpeg:https://lahiphopevents.com/wp-content/uploads/2024/06/patchez-circus.jpg
GEO:34.0368444;-118.2515659
X-APPLE-STRUCTURED-LOCATION;VALUE=URI;X-ADDRESS=Downtown Los Angeles | Los Angeles 1057 South San Pedro Street Los Angeles CA 90015 Los Angeles CA 90015;X-APPLE-RADIUS=500;X-TITLE=1057 South San Pedro Street\, Los Angeles\, CA 90015:geo:-118.2515659,34.0368444
END:VEVENT
END:VCALENDAR