BEGIN:VCALENDAR
VERSION:2.0
PRODID:-//LA HIP HOP EVENTS - ECPv6.15.20//NONSGML v1.0//EN
CALSCALE:GREGORIAN
METHOD:PUBLISH
X-ORIGINAL-URL:https://lahiphopevents.com
X-WR-CALDESC:Events for LA HIP HOP EVENTS
REFRESH-INTERVAL;VALUE=DURATION:PT1H
X-Robots-Tag:noindex
X-PUBLISHED-TTL:PT1H
BEGIN:VTIMEZONE
TZID:America/Los_Angeles
BEGIN:DAYLIGHT
TZOFFSETFROM:-0800
TZOFFSETTO:-0700
TZNAME:PDT
DTSTART:20250309T100000
END:DAYLIGHT
BEGIN:STANDARD
TZOFFSETFROM:-0700
TZOFFSETTO:-0800
TZNAME:PST
DTSTART:20251102T090000
END:STANDARD
BEGIN:DAYLIGHT
TZOFFSETFROM:-0800
TZOFFSETTO:-0700
TZNAME:PDT
DTSTART:20260308T100000
END:DAYLIGHT
BEGIN:STANDARD
TZOFFSETFROM:-0700
TZOFFSETTO:-0800
TZNAME:PST
DTSTART:20261101T090000
END:STANDARD
BEGIN:DAYLIGHT
TZOFFSETFROM:-0800
TZOFFSETTO:-0700
TZNAME:PDT
DTSTART:20270314T100000
END:DAYLIGHT
BEGIN:STANDARD
TZOFFSETFROM:-0700
TZOFFSETTO:-0800
TZNAME:PST
DTSTART:20271107T090000
END:STANDARD
END:VTIMEZONE
BEGIN:VEVENT
DTSTART;TZID=America/Los_Angeles:20260621T190000
DTEND;TZID=America/Los_Angeles:20260621T190000
DTSTAMP:20260425T082920
CREATED:20260202T224436Z
LAST-MODIFIED:20260202T230211Z
UID:10004409-1782068400-1782068400@lahiphopevents.com
SUMMARY:Freddie Gibbs – The Last Rabbit Tour | Anaheim
DESCRIPTION:Freddie Gibbs: The Last Rabbit Tour⁣\n⁣\nSun • Jun 21\, 2026 • 7:00 PM⁣\n⁣\nHouse of Blues Anaheim⁣\nAnaheim\, CA
URL:https://lahiphopevents.com/event/freddie-gibbs-the-last-rabbit-tour-anaheim/
LOCATION:House of Blues Anaheim | Anaheim\, 400 Disney Way Suite 337\, Anaheim\, CA\, 92802\, United States
CATEGORIES:Concert,Events,Hip Hop,OC Hip Hop
ATTACH;FMTTYPE=image/jpeg:https://lahiphopevents.com/wp-content/uploads/2026/02/Freddie-Gibbs-The-Last-Rabbit.jpg
GEO:33.8061819;-117.9119827
X-APPLE-STRUCTURED-LOCATION;VALUE=URI;X-ADDRESS=House of Blues Anaheim | Anaheim 400 Disney Way Suite 337 Anaheim CA 92802 United States;X-APPLE-RADIUS=500;X-TITLE=400 Disney Way Suite 337:geo:-117.9119827,33.8061819
END:VEVENT
BEGIN:VEVENT
DTSTART;TZID=America/Los_Angeles:20260624T193000
DTEND;TZID=America/Los_Angeles:20260624T193000
DTSTAMP:20260425T082920
CREATED:20251212T065758Z
LAST-MODIFIED:20251212T065758Z
UID:10004298-1782329400-1782329400@lahiphopevents.com
SUMMARY:Khalid: Always Summer Somewhere Tour at Greek Theatre
DESCRIPTION:Khalid: It’s Always Summer Somewhere Tour⁣⁣\n⁣⁣\nWed • Jun 24\, 2026 • 7:30 PM⁣⁣\n⁣⁣\nGreek Theatre⁣⁣\nLos Angeles\, CA
URL:https://lahiphopevents.com/event/khalid-always-summer-somewhere-tour-at-greek-theatre/
LOCATION:The Greek Theatre | Los Angeles\, 2700 North Vermont Ave.\, Los Angeles\, CA\, 90027\, United States
CATEGORIES:Events,LA Live Show,LA Nightlife,RnB
ATTACH;FMTTYPE=image/jpeg:https://lahiphopevents.com/wp-content/uploads/2025/12/Khalid-2026-2.jpg
GEO:34.1205588;-118.2963915
X-APPLE-STRUCTURED-LOCATION;VALUE=URI;X-ADDRESS=The Greek Theatre | Los Angeles 2700 North Vermont Ave. Los Angeles CA 90027 United States;X-APPLE-RADIUS=500;X-TITLE=2700 North Vermont Ave.:geo:-118.2963915,34.1205588
END:VEVENT
BEGIN:VEVENT
DTSTART;TZID=America/Los_Angeles:20260625T190000
DTEND;TZID=America/Los_Angeles:20260625T190000
DTSTAMP:20260425T082920
CREATED:20260422T135124Z
LAST-MODIFIED:20260422T135124Z
UID:10004806-1782414000-1782414000@lahiphopevents.com
SUMMARY:Dess Dior: Take Notes Tour Live in LA
DESCRIPTION:Dess Dior: Take Notes Tour⁣\n⁣\nThu\, Jun 25\, 2026 at 7:00 ⁣\n⁣\nThe Peppermint Club⁣\nLos Angeles\, CA
URL:https://lahiphopevents.com/event/dess-dior-take-notes-tour-live-in-la/
LOCATION:The Peppermint Club | Los Angeles\, 8713 Beverly Boulevard\, West Hollywood\, CA\, 90048\, United States
CATEGORIES:Club Appearance,Concert,Events,Los Angeles Events
ATTACH;FMTTYPE=image/jpeg:https://lahiphopevents.com/wp-content/uploads/2026/04/Dess-Dior.jpg
GEO:34.07717;-118.3809595
X-APPLE-STRUCTURED-LOCATION;VALUE=URI;X-ADDRESS=The Peppermint Club | Los Angeles 8713 Beverly Boulevard West Hollywood CA 90048 United States;X-APPLE-RADIUS=500;X-TITLE=8713 Beverly Boulevard:geo:-118.3809595,34.07717
END:VEVENT
BEGIN:VEVENT
DTSTART;TZID=America/Los_Angeles:20260625T193000
DTEND;TZID=America/Los_Angeles:20260625T193000
DTSTAMP:20260425T082920
CREATED:20260122T205621Z
LAST-MODIFIED:20260122T205621Z
UID:10004377-1782415800-1782415800@lahiphopevents.com
SUMMARY:Summer Walker: Still Finally Over It Tour LA
DESCRIPTION:⁣Summer Walker: Still Finally Over It Tour⁣\n⁣\nThu • Jun 25\, 2026 • 7:30 PM⁣\n⁣\nCrypto.com Arena⁣\nLos Angeles\, CA⁣
URL:https://lahiphopevents.com/event/summer-walker-still-finally-over-it-tour-la/
LOCATION:Crypto.com Arena | Los Angeles\, 1111 S Figueroa St\, Los Angeles\, CA\, 90015\, United States
CATEGORIES:Concert,Events,Los Angeles Events,RnB
ATTACH;FMTTYPE=image/jpeg:https://lahiphopevents.com/wp-content/uploads/2026/01/Summer-Walker-3.jpg
GEO:34.0430058;-118.2673597
X-APPLE-STRUCTURED-LOCATION;VALUE=URI;X-ADDRESS=Crypto.com Arena | Los Angeles 1111 S Figueroa St Los Angeles CA 90015 United States;X-APPLE-RADIUS=500;X-TITLE=1111 S Figueroa St:geo:-118.2673597,34.0430058
END:VEVENT
BEGIN:VEVENT
DTSTART;TZID=America/Los_Angeles:20260626T183000
DTEND;TZID=America/Los_Angeles:20260626T183000
DTSTAMP:20260425T082920
CREATED:20260126T180323Z
LAST-MODIFIED:20260126T215820Z
UID:10004393-1782498600-1782498600@lahiphopevents.com
SUMMARY:Kid Cudi: The Rebel Ragers Tour 2026
DESCRIPTION:KID CUDI PRESENTS: THE REBEL RAGERS TOUR 2026⁣\n⁣\nFri • Jun 26\, 2026 • 6:30 PM⁣\n⁣\nCrypto.com Arena⁣\nLos Angeles\, CA
URL:https://lahiphopevents.com/event/kid-cudi-the-rebel-ragers-tour-2026/
LOCATION:Crypto.com Arena | Los Angeles\, 1111 S Figueroa St\, Los Angeles\, CA\, 90015\, United States
CATEGORIES:Concert,Events,Hip Hop,LA Hip Hop Events,Los Angeles Events,Music,Rap Concert,Tour
ATTACH;FMTTYPE=image/jpeg:https://lahiphopevents.com/wp-content/uploads/2026/01/Kid-Cudi-The-Rebel-Ragers-Tour-2026.jpg
GEO:34.0430058;-118.2673597
X-APPLE-STRUCTURED-LOCATION;VALUE=URI;X-ADDRESS=Crypto.com Arena | Los Angeles 1111 S Figueroa St Los Angeles CA 90015 United States;X-APPLE-RADIUS=500;X-TITLE=1111 S Figueroa St:geo:-118.2673597,34.0430058
END:VEVENT
BEGIN:VEVENT
DTSTART;TZID=America/Los_Angeles:20260626T200000
DTEND;TZID=America/Los_Angeles:20260626T200000
DTSTAMP:20260425T082920
CREATED:20260225T065301Z
LAST-MODIFIED:20260225T213943Z
UID:10004441-1782504000-1782504000@lahiphopevents.com
SUMMARY:Color Me Badd Live in Fontana
DESCRIPTION:Color Me Badd⁣⁣\n⁣⁣\nFri • Jun 26\, 2026 • 8:00 PM⁣⁣\n⁣⁣\nStage Red⁣⁣\nFontana\, CA
URL:https://lahiphopevents.com/event/color-me-badd-live-in-fontana/
LOCATION:Stage Red | Fontana\, 8463 Sierra Avenue\, Fontana\, 92335\, United States
CATEGORIES:Concert,Events,Fontana,RnB
ATTACH;FMTTYPE=image/jpeg:https://lahiphopevents.com/wp-content/uploads/2026/02/Color-Me-Badd-Fontana.jpg
GEO:34.0999231;-117.4353115
X-APPLE-STRUCTURED-LOCATION;VALUE=URI;X-ADDRESS=Stage Red | Fontana 8463 Sierra Avenue Fontana 92335 United States;X-APPLE-RADIUS=500;X-TITLE=8463 Sierra Avenue:geo:-117.4353115,34.0999231
END:VEVENT
BEGIN:VEVENT
DTSTART;TZID=America/Los_Angeles:20260627T193000
DTEND;TZID=America/Los_Angeles:20260627T193000
DTSTAMP:20260425T082920
CREATED:20260121T034927Z
LAST-MODIFIED:20260121T065840Z
UID:10004362-1782588600-1782588600@lahiphopevents.com
SUMMARY:A$AP Rocky – Don’t Be Dumb Tour at Kia Forum
DESCRIPTION:A$AP Rocky – Don’t Be Dumb World Tour⁣⁣\n⁣⁣\nSat • Jun 27\, 2026 • 7:30 PM⁣⁣\n⁣⁣\nKia Forum⁣⁣\nInglewood\, CA⁣⁣
URL:https://lahiphopevents.com/event/aap-rocky-dont-be-dumb-tour-at-kia-forum/
LOCATION:The Kia Forum | Inglewood\, 3900 W Manchester Blvd\, Inglewood\, CA\, 90305\, United States
CATEGORIES:Concert,Events,LA Hip Hop Events,LA Live Show,LA Nightlife,Los Angeles Events,Tour
ATTACH;FMTTYPE=image/jpeg:https://lahiphopevents.com/wp-content/uploads/2026/01/Asap-Rocky-2.jpg
GEO:33.9580853;-118.3420621
X-APPLE-STRUCTURED-LOCATION;VALUE=URI;X-ADDRESS=The Kia Forum | Inglewood 3900 W Manchester Blvd Inglewood CA 90305 United States;X-APPLE-RADIUS=500;X-TITLE=3900 W Manchester Blvd:geo:-118.3420621,33.9580853
END:VEVENT
BEGIN:VEVENT
DTSTART;TZID=America/Los_Angeles:20260627T200000
DTEND;TZID=America/Los_Angeles:20260627T200000
DTSTAMP:20260425T082920
CREATED:20260225T071015Z
LAST-MODIFIED:20260225T071015Z
UID:10004442-1782590400-1782590400@lahiphopevents.com
SUMMARY:The Sugarhill Gang Live at Stage Red
DESCRIPTION:The Sugarhill Gang⁣\n⁣\nSat • Jun 27\, 2026 • 8:00 PM⁣\n⁣\nStage Red⁣\nFontana\, CA
URL:https://lahiphopevents.com/event/the-sugarhill-gang-live-at-stage-red/
LOCATION:Stage Red | Fontana\, 8463 Sierra Avenue\, Fontana\, 92335\, United States
CATEGORIES:Concert,Events,Fontana,Hip Hop,Hip Hop Community
ATTACH;FMTTYPE=image/jpeg:https://lahiphopevents.com/wp-content/uploads/2026/02/Sugar-Hill-Gang-Fontana.jpg
GEO:34.0999231;-117.4353115
X-APPLE-STRUCTURED-LOCATION;VALUE=URI;X-ADDRESS=Stage Red | Fontana 8463 Sierra Avenue Fontana 92335 United States;X-APPLE-RADIUS=500;X-TITLE=8463 Sierra Avenue:geo:-117.4353115,34.0999231
END:VEVENT
END:VCALENDAR