BEGIN:VCALENDAR
VERSION:2.0
PRODID:-//LA HIP HOP EVENTS - ECPv6.15.20//NONSGML v1.0//EN
CALSCALE:GREGORIAN
METHOD:PUBLISH
X-ORIGINAL-URL:https://lahiphopevents.com
X-WR-CALDESC:Events for LA HIP HOP EVENTS
REFRESH-INTERVAL;VALUE=DURATION:PT1H
X-Robots-Tag:noindex
X-PUBLISHED-TTL:PT1H
BEGIN:VTIMEZONE
TZID:America/Los_Angeles
BEGIN:DAYLIGHT
TZOFFSETFROM:-0800
TZOFFSETTO:-0700
TZNAME:PDT
DTSTART:20230312T100000
END:DAYLIGHT
BEGIN:STANDARD
TZOFFSETFROM:-0700
TZOFFSETTO:-0800
TZNAME:PST
DTSTART:20231105T090000
END:STANDARD
BEGIN:DAYLIGHT
TZOFFSETFROM:-0800
TZOFFSETTO:-0700
TZNAME:PDT
DTSTART:20240310T100000
END:DAYLIGHT
BEGIN:STANDARD
TZOFFSETFROM:-0700
TZOFFSETTO:-0800
TZNAME:PST
DTSTART:20241103T090000
END:STANDARD
BEGIN:DAYLIGHT
TZOFFSETFROM:-0800
TZOFFSETTO:-0700
TZNAME:PDT
DTSTART:20250309T100000
END:DAYLIGHT
BEGIN:STANDARD
TZOFFSETFROM:-0700
TZOFFSETTO:-0800
TZNAME:PST
DTSTART:20251102T090000
END:STANDARD
END:VTIMEZONE
BEGIN:VEVENT
DTSTART;TZID=America/Los_Angeles:20240817T140000
DTEND;TZID=America/Los_Angeles:20240817T140000
DTSTAMP:20260421T140306
CREATED:20240105T034831Z
LAST-MODIFIED:20240424T160419Z
UID:10002796-1723903200-1723903200@lahiphopevents.com
SUMMARY:Rhyme Fest - Block Party || LA Coliseum\, Los Angeles
DESCRIPTION:Rhyme Fest\n[spacer height=”20px”] \n\n\nSaturday\, Aug 17\, 2024 | Show: 2 PM\n\n\n[spacer height=”20px”]\n\nat LA Coliseum \n 
URL:https://lahiphopevents.com/event/rhyme-fest-block-party-arts-district-downtown-los-angeles/
LOCATION:LA Memorial Coliseum | Los Angeles\, 3911 Figueroa St\, Los Angeles\, CA\, 90037\, United States
CATEGORIES:Festival
ATTACH;FMTTYPE=image/jpeg:https://lahiphopevents.com/wp-content/uploads/2024/01/Rhyme-Fest-2024-Updated-2.jpg
GEO:34.0138591;-118.2829243
X-APPLE-STRUCTURED-LOCATION;VALUE=URI;X-ADDRESS=LA Memorial Coliseum | Los Angeles 3911 Figueroa St Los Angeles CA 90037 United States;X-APPLE-RADIUS=500;X-TITLE=3911 Figueroa St:geo:-118.2829243,34.0138591
END:VEVENT
END:VCALENDAR