BEGIN:VCALENDAR
VERSION:2.0
PRODID:-//LA HIP HOP EVENTS - ECPv6.15.20//NONSGML v1.0//EN
CALSCALE:GREGORIAN
METHOD:PUBLISH
X-WR-CALNAME:LA HIP HOP EVENTS
X-ORIGINAL-URL:https://lahiphopevents.com
X-WR-CALDESC:Events for LA HIP HOP EVENTS
REFRESH-INTERVAL;VALUE=DURATION:PT1H
X-Robots-Tag:noindex
X-PUBLISHED-TTL:PT1H
BEGIN:VTIMEZONE
TZID:America/Los_Angeles
BEGIN:DAYLIGHT
TZOFFSETFROM:-0800
TZOFFSETTO:-0700
TZNAME:PDT
DTSTART:20230312T100000
END:DAYLIGHT
BEGIN:STANDARD
TZOFFSETFROM:-0700
TZOFFSETTO:-0800
TZNAME:PST
DTSTART:20231105T090000
END:STANDARD
BEGIN:DAYLIGHT
TZOFFSETFROM:-0800
TZOFFSETTO:-0700
TZNAME:PDT
DTSTART:20240310T100000
END:DAYLIGHT
BEGIN:STANDARD
TZOFFSETFROM:-0700
TZOFFSETTO:-0800
TZNAME:PST
DTSTART:20241103T090000
END:STANDARD
BEGIN:DAYLIGHT
TZOFFSETFROM:-0800
TZOFFSETTO:-0700
TZNAME:PDT
DTSTART:20250309T100000
END:DAYLIGHT
BEGIN:STANDARD
TZOFFSETFROM:-0700
TZOFFSETTO:-0800
TZNAME:PST
DTSTART:20251102T090000
END:STANDARD
END:VTIMEZONE
BEGIN:VEVENT
DTSTART;TZID=America/Los_Angeles:20240907T110000
DTEND;TZID=America/Los_Angeles:20240907T220000
DTSTAMP:20260422T143442
CREATED:20240409T024414Z
LAST-MODIFIED:20240907T184453Z
UID:10003014-1725706800-1725746400@lahiphopevents.com
SUMMARY:I LOVE RNB FESTIVAL IN LOS ANGELES  2024 || GRAND PARK LA
DESCRIPTION:I LOVE RNB FESTIVAL 2024\nSaturday September 7th at Grand Park\nLos Angeles\, CA \nLive on Stage \nOMARION – BOW WOW \nASHANTI – JA RULE \nMONIC – PRETTY RICKY- FABOLOUS – GINUWINE \nMYA – KERI HILSON – LLOYD \nRAY J – SAMMIE – BOBBY V – PLEASURE P \nSOULJA BOY – CHINGY \nLIL MO – YUNG BERG – TWEET \nJ HOLIDAY – NIVEA – TRUTH HURTS \n*SPECIAL GUEST DJ SET* \nJERMAINE DUPRI \n*All tickets start at $19.99 down\nTo Get A Text Reminder When Tickets Go On Sale !! \nwww.RnbFestival2024.com
URL:https://lahiphopevents.com/event/i-love-rnb-festival-in-los-angeles-2024-grand-park-la/
LOCATION:Grand Park LA | Los Angeles\, 200 North Grand Avenue\, Los Angeles\, CA\, 90012\, United States
CATEGORIES:Festival,Music,Outdoor Concert,RnB
ATTACH;FMTTYPE=image/jpeg:https://lahiphopevents.com/wp-content/uploads/2024/04/I-LOVE-RNB-FESTIVAL-2024-2.jpg
GEO:34.0562797;-118.2467434
X-APPLE-STRUCTURED-LOCATION;VALUE=URI;X-ADDRESS=Grand Park LA | Los Angeles 200 North Grand Avenue Los Angeles CA 90012 United States;X-APPLE-RADIUS=500;X-TITLE=200 North Grand Avenue:geo:-118.2467434,34.0562797
END:VEVENT
END:VCALENDAR