BEGIN:VCALENDAR
VERSION:2.0
PRODID:-//LA HIP HOP EVENTS - ECPv6.15.20//NONSGML v1.0//EN
CALSCALE:GREGORIAN
METHOD:PUBLISH
X-WR-CALNAME:LA HIP HOP EVENTS
X-ORIGINAL-URL:https://lahiphopevents.com
X-WR-CALDESC:Events for LA HIP HOP EVENTS
REFRESH-INTERVAL;VALUE=DURATION:PT1H
X-Robots-Tag:noindex
X-PUBLISHED-TTL:PT1H
BEGIN:VTIMEZONE
TZID:America/Los_Angeles
BEGIN:DAYLIGHT
TZOFFSETFROM:-0800
TZOFFSETTO:-0700
TZNAME:PDT
DTSTART:20230312T100000
END:DAYLIGHT
BEGIN:STANDARD
TZOFFSETFROM:-0700
TZOFFSETTO:-0800
TZNAME:PST
DTSTART:20231105T090000
END:STANDARD
BEGIN:DAYLIGHT
TZOFFSETFROM:-0800
TZOFFSETTO:-0700
TZNAME:PDT
DTSTART:20240310T100000
END:DAYLIGHT
BEGIN:STANDARD
TZOFFSETFROM:-0700
TZOFFSETTO:-0800
TZNAME:PST
DTSTART:20241103T090000
END:STANDARD
BEGIN:DAYLIGHT
TZOFFSETFROM:-0800
TZOFFSETTO:-0700
TZNAME:PDT
DTSTART:20250309T100000
END:DAYLIGHT
BEGIN:STANDARD
TZOFFSETFROM:-0700
TZOFFSETTO:-0800
TZNAME:PST
DTSTART:20251102T090000
END:STANDARD
END:VTIMEZONE
BEGIN:VEVENT
DTSTART;TZID=America/Los_Angeles:20241011T140000
DTEND;TZID=America/Los_Angeles:20241012T020000
DTSTAMP:20260425T111407
CREATED:20240724T073341Z
LAST-MODIFIED:20240724T073341Z
UID:10003266-1728655200-1728698400@lahiphopevents.com
SUMMARY:Desert Daze 2024 at Lake Perris State Recreation Area\, Perris
DESCRIPTION:Desert Daze 2024\n[spacer height=”20px”] \nOct 10 – Oct 13 \nFriday: 2pm – 2am \n\nLake Perris State Recreation Area \n17801 Lake Perris Dr\nPerris\, CA 92571
URL:https://lahiphopevents.com/event/desert-daze-2024-at-lake-perris-state-recreation-area-perris-2/
LOCATION:Lake Perris State Recreation Area | Perris\, Lake Perris Drive\, Perris\, CA\, 92571\, United States
CATEGORIES:Festival
ATTACH;FMTTYPE=image/jpeg:https://lahiphopevents.com/wp-content/uploads/2024/07/desert-daze-2024-7-2.jpg
GEO:33.8619175;-117.2031298
X-APPLE-STRUCTURED-LOCATION;VALUE=URI;X-ADDRESS=Lake Perris State Recreation Area | Perris Lake Perris Drive Perris CA 92571 United States;X-APPLE-RADIUS=500;X-TITLE=Lake Perris Drive:geo:-117.2031298,33.8619175
END:VEVENT
END:VCALENDAR