BEGIN:VCALENDAR
VERSION:2.0
PRODID:-//LA HIP HOP EVENTS - ECPv6.15.20//NONSGML v1.0//EN
CALSCALE:GREGORIAN
METHOD:PUBLISH
X-ORIGINAL-URL:https://lahiphopevents.com
X-WR-CALDESC:Events for LA HIP HOP EVENTS
REFRESH-INTERVAL;VALUE=DURATION:PT1H
X-Robots-Tag:noindex
X-PUBLISHED-TTL:PT1H
BEGIN:VTIMEZONE
TZID:America/Los_Angeles
BEGIN:DAYLIGHT
TZOFFSETFROM:-0800
TZOFFSETTO:-0700
TZNAME:PDT
DTSTART:20250309T100000
END:DAYLIGHT
BEGIN:STANDARD
TZOFFSETFROM:-0700
TZOFFSETTO:-0800
TZNAME:PST
DTSTART:20251102T090000
END:STANDARD
BEGIN:DAYLIGHT
TZOFFSETFROM:-0800
TZOFFSETTO:-0700
TZNAME:PDT
DTSTART:20260308T100000
END:DAYLIGHT
BEGIN:STANDARD
TZOFFSETFROM:-0700
TZOFFSETTO:-0800
TZNAME:PST
DTSTART:20261101T090000
END:STANDARD
BEGIN:DAYLIGHT
TZOFFSETFROM:-0800
TZOFFSETTO:-0700
TZNAME:PDT
DTSTART:20270314T100000
END:DAYLIGHT
BEGIN:STANDARD
TZOFFSETFROM:-0700
TZOFFSETTO:-0800
TZNAME:PST
DTSTART:20271107T090000
END:STANDARD
END:VTIMEZONE
BEGIN:VEVENT
DTSTART;TZID=America/Los_Angeles:20260804T183000
DTEND;TZID=America/Los_Angeles:20260804T183000
DTSTAMP:20260425T091639
CREATED:20260424T211025Z
LAST-MODIFIED:20260424T211025Z
UID:10004813-1785868200-1785868200@lahiphopevents.com
SUMMARY:Justine Skye Live at The Moroccan Lounge
DESCRIPTION:Justine Skye⁣\n⁣\nTue Aug 4\, 2026 – 6:30 PM⁣\n⁣\nThe Moroccan Lounge⁣\nLos Angeles\, CA
URL:https://lahiphopevents.com/event/justine-skye-live-at-the-moroccan-lounge/
LOCATION:Moroccan Lounge | Los Angeles\, 901 E 1st St\, Los Angeles\, CA\, 90012\, United States
CATEGORIES:Concert,Events,Los Angeles Events,RnB
ATTACH;FMTTYPE=image/jpeg:https://lahiphopevents.com/wp-content/uploads/2026/04/Justine-Skye.jpg
GEO:34.048701;-118.2337029
X-APPLE-STRUCTURED-LOCATION;VALUE=URI;X-ADDRESS=Moroccan Lounge | Los Angeles 901 E 1st St Los Angeles CA 90012 United States;X-APPLE-RADIUS=500;X-TITLE=901 E 1st St:geo:-118.2337029,34.048701
END:VEVENT
END:VCALENDAR