BEGIN:VCALENDAR
VERSION:2.0
PRODID:-//LA HIP HOP EVENTS - ECPv6.15.20//NONSGML v1.0//EN
CALSCALE:GREGORIAN
METHOD:PUBLISH
X-ORIGINAL-URL:https://lahiphopevents.com
X-WR-CALDESC:Events for LA HIP HOP EVENTS
REFRESH-INTERVAL;VALUE=DURATION:PT1H
X-Robots-Tag:noindex
X-PUBLISHED-TTL:PT1H
BEGIN:VTIMEZONE
TZID:America/Los_Angeles
BEGIN:DAYLIGHT
TZOFFSETFROM:-0800
TZOFFSETTO:-0700
TZNAME:PDT
DTSTART:20240310T100000
END:DAYLIGHT
BEGIN:STANDARD
TZOFFSETFROM:-0700
TZOFFSETTO:-0800
TZNAME:PST
DTSTART:20241103T090000
END:STANDARD
BEGIN:DAYLIGHT
TZOFFSETFROM:-0800
TZOFFSETTO:-0700
TZNAME:PDT
DTSTART:20250309T100000
END:DAYLIGHT
BEGIN:STANDARD
TZOFFSETFROM:-0700
TZOFFSETTO:-0800
TZNAME:PST
DTSTART:20251102T090000
END:STANDARD
BEGIN:DAYLIGHT
TZOFFSETFROM:-0800
TZOFFSETTO:-0700
TZNAME:PDT
DTSTART:20260308T100000
END:DAYLIGHT
BEGIN:STANDARD
TZOFFSETFROM:-0700
TZOFFSETTO:-0800
TZNAME:PST
DTSTART:20261101T090000
END:STANDARD
END:VTIMEZONE
BEGIN:VTIMEZONE
TZID:Africa/Abidjan
BEGIN:STANDARD
TZOFFSETFROM:+0000
TZOFFSETTO:+0000
TZNAME:GMT
DTSTART:20240101T000000
END:STANDARD
END:VTIMEZONE
BEGIN:VEVENT
DTSTART;TZID=America/Los_Angeles:20251109T140000
DTEND;TZID=America/Los_Angeles:20251109T200000
DTSTAMP:20260419T223946
CREATED:20251104T061715Z
LAST-MODIFIED:20251104T065231Z
UID:10004243-1762696800-1762718400@lahiphopevents.com
SUMMARY:The DO-OVER L.A. 20 Year Anniversary
DESCRIPTION:Celebrate our 20th year in Los Angeles alongside some of our best friends. Presented by KCRW\, AKILA and VANS.\n\n\nThe DO-OVER L.A. 20 Year Anniversary⁣\n⁣\nNov 9 from 2pm to 8pm⁣\n⁣\nLos Angeles River Center and Gardens⁣\n570 West Avenue 26⁣\nLos Angeles\, CA 90065⁣\n⁣ \nStarting from a ramshackled Hollywood backyard in 2005\, The Do-Over has turned into quite the Tinseltown Tale. Fueled by a summer of buckets of beers & questionable BBQ\, a simple idea came to life – let’s create a place where music breaks all barriers & brings together all walks of life. A space where house & hip-hop\, funk & salsa\, reggae & classics could all coexist. Where you would come for the music (vs the name of a DJ)\, stay for the connections & leave with the memories (albeit a bit fuzzy thanks to a carafe of sangria)… a place to do your weekend all-over! \n  \nTwo decades later\, The Do-Over has taken its fun-loving\, funky spirit around the Globe\, sparked lifelong friendships\, marriages (and maybe a divorce or two)\, inspired musical collaborations\, and even helped bring a few babies into the world—sometimes intentionally! We would also like to honor & remember those who are no longer with us but whose energy & love helped shape The Do-Over. \n  \nWhat started as a feeling has become a timeless story — a celebration of community\, culture\, and connection so it only makes sense — we’re celebrating the city that raised us and giving back to the community that keeps it moving. As the late\, great DJ Dusk once said\, “None of us are as strong as all of us.” In that spirit of unity\, we are deeply honored to collaborate with and celebrate some of our favorite crews — A Club Called Rhonda\, Donavan’s Yard\, Link Up!\, and Pangea Sound — whose contributions have helped define the cultural fabric of Los Angeles across generations. \n  \nAND it wouldn’t be a Do-Over without surprises !!! \n  \nPresented by KCRW\, AKILA and VANS \n* Your ticket helps us give back — proceeds from ticket sales will be donated to the following non-profit organizations: Coalition for Humane Immigrant Rights\, My Tribe Rise and Ghetto Youths Foundation. \n  \nTHIS EVENT IS RAIN OR SHINE. NO REFUNDS ARE OFFERED. \n  \nFrom the South Bay to the Valley \nFrom the West Side to the East Side \nEverybody’s very happy \n‘Cause the sun is shining all the time \nLooks like another perfect day \nI Love L.A. (We Love It) \n– Aloe\, Chris\, Jamie \n\n\n…………………………………….. \nAKILA Eyewear invites you to enjoy $20 off in-store with proof of ticket. \nValid at AKILA’s Silver Lake store – 3300 Sunset Blvd Suite 104\, Los Angeles\, CA 90026. \n*Offer valid thru Monday November 10th.
URL:https://lahiphopevents.com/event/the-do-over-l-a-20-year-anniversary-2/
LOCATION:Los Angeles River Center and Gardens | Los Angeles\, 570 West Avenue 26\, Los Angeles\, CA\, 90065\, United States
CATEGORIES:Dance,Day Party,DJ,Music
ATTACH;FMTTYPE=image/jpeg:https://lahiphopevents.com/wp-content/uploads/2025/11/the-do-over-20-year-2.jpg
GEO:34.0861022;-118.2254332
X-APPLE-STRUCTURED-LOCATION;VALUE=URI;X-ADDRESS=Los Angeles River Center and Gardens | Los Angeles 570 West Avenue 26 Los Angeles CA 90065 United States;X-APPLE-RADIUS=500;X-TITLE=570 West Avenue 26:geo:-118.2254332,34.0861022
END:VEVENT
BEGIN:VEVENT
DTSTART;TZID=America/Los_Angeles:20251109T150000
DTEND;TZID=America/Los_Angeles:20251109T150000
DTSTAMP:20260419T223946
CREATED:20251006T035615Z
LAST-MODIFIED:20251006T035615Z
UID:10004178-1762700400-1762700400@lahiphopevents.com
SUMMARY:Broccoli City: The LA Exchange at The Beehive
DESCRIPTION:Broccoli City “LA Exchange” ⁣\n⁣\nNovember 9\, 2025 | Doors open at 3:00PM⁣\nAll Ages⁣\n⁣\nThe Beehive⁣\n961 E. 61st Street⁣\nLos Angeles 90001⁣\n⁣\nThe Broccoli City Exchange is not just an event\, it’s a platform for influential voices and visionary entrepreneurs to connect\, collaborate\, and inspire. By bringing together changemakers\, cultural trailblazers\, and the city’s most dynamic brands\, we’re shaping new opportunities and driving lasting impact for Los Angeles and beyond. ⁣\n⁣\nThis premium yet accessible gathering unites music\, art\, food\, comedy\, and community in an unforgettable LA experience – rooted in the Broccoli City mission of “Community over Competition” \nBRB
URL:https://lahiphopevents.com/event/broccoli-city-the-la-exchange-at-the-beehive/
LOCATION:The Beehive | Los Angeles\, 961 E 61st\, Los Angeles\, CA 90001\, Los Angeles\, CA\, 90001
CATEGORIES:Art,Comedy,Community,Food,Music
ATTACH;FMTTYPE=image/jpeg:https://lahiphopevents.com/wp-content/uploads/2025/10/Broccoli-City.jpg
GEO:33.9845543;-118.257904
X-APPLE-STRUCTURED-LOCATION;VALUE=URI;X-ADDRESS=The Beehive | Los Angeles 961 E 61st Los Angeles CA 90001 Los Angeles CA 90001;X-APPLE-RADIUS=500;X-TITLE=961 E 61st\, Los Angeles\, CA 90001:geo:-118.257904,33.9845543
END:VEVENT
BEGIN:VEVENT
DTSTART;TZID=America/Los_Angeles:20251122T120000
DTEND;TZID=America/Los_Angeles:20251122T120000
DTSTAMP:20260419T223946
CREATED:20251027T022236Z
LAST-MODIFIED:20251027T022236Z
UID:10004229-1763812800-1763812800@lahiphopevents.com
SUMMARY:Don’t Fall In Love Festival 2025 – San Bernardino
DESCRIPTION:JOP PRESENTS: DON’T FALL IN LOVE FESTIVAL \nSat\, Nov 22 at 12:00 PM  \nNOS Event Center\,  San Bernardino\, CA \nFuerza Regida launched the first-ever Don’t Fall in Love Fest in their hometown of San Bernardino\, California IN 2024 in partnership with Bobby Dee Presents. The festival bridged genres and cultures\, spotlighting the best of música mexicana and hip-hop—two dominant sounds of the region. The lineup featured Lil Baby\, Sexyy Red\, Xavi\, Kodak Black\, Luis Conriquez\, and Bone Thugs-N-Harmony. Drawing over 20\,000 attendees—a first in the city’s history—the festival marked the beginning of a new tradition for San Bernardino and beyond. \nLine Up: \nFUTURE \nFUERZA REGIDA \nNETON VEGA \nBANDA MS \nLOS TUCANES DE TIJUANA \nCHIEF KEEF \nCLAVE ESPECIAL \nVICTOR MENDIVIL \nOSCAR MAYDON \nSAWEETIE \nLEGADO 7 \nSNOW THA PRODUCT \nLINEA PERSONAL \nMI BANDA EL MEXICANO \nBANDA MACHOS \nCHUYIN \nBABY BASH \nDJ QUIK \nLIL’ ROB \nMC MAGIC \nPEYSOH \nJ.I BANDZ \nKINGMOSTWANTED
URL:https://lahiphopevents.com/event/dont-fall-in-love-festival-2025-san-bernardino/
LOCATION:NOS Events Center | San Bernadino\, 689 S E St\, San Bernadino\, CA\, 92408\, United States
CATEGORIES:Festival,Hip Hop,Latin Music Events,Music,Ontario,Rap Concert,San Bernardino Events
ATTACH;FMTTYPE=image/jpeg:https://lahiphopevents.com/wp-content/uploads/2025/10/Dont-Fall-in-Love-Fest-2025.jpg
GEO:34.0881793;-117.2920294
X-APPLE-STRUCTURED-LOCATION;VALUE=URI;X-ADDRESS=NOS Events Center | San Bernadino 689 S E St San Bernadino CA 92408 United States;X-APPLE-RADIUS=500;X-TITLE=689 S E St:geo:-117.2920294,34.0881793
END:VEVENT
BEGIN:VEVENT
DTSTART;TZID=America/Los_Angeles:20251126T200000
DTEND;TZID=America/Los_Angeles:20251126T200000
DTSTAMP:20260419T223946
CREATED:20251112T033150Z
LAST-MODIFIED:20251112T033150Z
UID:10004258-1764187200-1764187200@lahiphopevents.com
SUMMARY:Suga Free Live at Stage Red – Fontana
DESCRIPTION:Suga Free⁣\n⁣\nWed • Nov 26\, 2025 • 8:00 PM⁣\n⁣\nStage Red⁣\nFontana\, CA
URL:https://lahiphopevents.com/event/suga-free-live-at-stage-red-fontana/
LOCATION:Stage Red | Fontana\, 8463 Sierra Avenue\, Fontana\, 92335\, United States
CATEGORIES:Fontana,Hip Hop,IE Hip Hop,LA Hip Hop Events,Music,Rap Concert
ATTACH;FMTTYPE=image/jpeg:https://lahiphopevents.com/wp-content/uploads/2025/11/Suga-Free-Pre-Thanksgiving-Jam.jpg
GEO:34.0999231;-117.4353115
X-APPLE-STRUCTURED-LOCATION;VALUE=URI;X-ADDRESS=Stage Red | Fontana 8463 Sierra Avenue Fontana 92335 United States;X-APPLE-RADIUS=500;X-TITLE=8463 Sierra Avenue:geo:-117.4353115,34.0999231
END:VEVENT
BEGIN:VEVENT
DTSTART;TZID=Africa/Abidjan:20251128T210000
DTEND;TZID=Africa/Abidjan:20251129T020000
DTSTAMP:20260419T223946
CREATED:20251111T091406Z
LAST-MODIFIED:20251111T093231Z
UID:10004254-1764363600-1764381600@lahiphopevents.com
SUMMARY:Holiday Function: The Game’s 2000’s Theme Birthday Celebration
DESCRIPTION:Holiday Function: The Game’s 2000’s Theme Birthday and City Celebration Party!\n\n\nLA Function Pop-Up: Holiday Function! \nA special 2000’s Theme Birthday Celebration for The Game’s! \nThis isn’t just a party—The Game is celebrating his birthday with the city he loves\, 2000s style. Pull up for a night that feels like the golden era: big hits\, real dancing\, throwback fits\, and nothing but classic 2000s energy all night long. \nOne night only. 3 venues. 1 experience. \nBallet • Novel • Hadiqa \nCome celebrate a West Coast legend and the city that raised us! \nMusic By: \n\nDJ BAD\nDre Sinatra\nDJ R-TisTic\n\nAge Limit: 21+ \nTickets: \n-Early Arrival B4 10pm: $10 \n(in line B4 10pm for ticket to be valid) \n-Early Arrival B4 11pm: $15 \n(in line B4 11pm for ticket to be valid) \n-General admission: $20.00 \n-Skip the line: $40.00 \nNo Refunds (transfer allowed): \nAll sales are non-refundable. If you cannot attend you may transfer your purchase to another person. If the event is canceled\, all purchases will be refunded in full. Event doors close at 1am\, entry is not guaranteed after. \nDRESS CODE: Trendy / Fashion Forward \nGeneral info\, table reservations\, media inquiries email:info@supremeteamla.com
URL:https://lahiphopevents.com/event/holiday-function-the-games-2000s-theme-birthday-celebration/
LOCATION:BALLET HOLLYWOOD NEXT CHAPTER | LOS ANGELES\, 6358 Hollywood Boulevard\, Los Angeles\, CA\, 90028\, United States
CATEGORIES:LA Hip Hop Events,LA Live Show,LA Nightlife,Los Angeles Events,Music,Party
ATTACH;FMTTYPE=image/jpeg:https://lahiphopevents.com/wp-content/uploads/2025/11/The-Game-Birthday-Celebrationjpg.jpg
GEO:34.101386;-118.3285361
X-APPLE-STRUCTURED-LOCATION;VALUE=URI;X-ADDRESS=BALLET HOLLYWOOD NEXT CHAPTER | LOS ANGELES 6358 Hollywood Boulevard Los Angeles CA 90028 United States;X-APPLE-RADIUS=500;X-TITLE=6358 Hollywood Boulevard:geo:-118.3285361,34.101386
END:VEVENT
END:VCALENDAR