BEGIN:VCALENDAR
VERSION:2.0
PRODID:-//LA HIP HOP EVENTS - ECPv6.15.20//NONSGML v1.0//EN
CALSCALE:GREGORIAN
METHOD:PUBLISH
X-ORIGINAL-URL:https://lahiphopevents.com
X-WR-CALDESC:Events for LA HIP HOP EVENTS
REFRESH-INTERVAL;VALUE=DURATION:PT1H
X-Robots-Tag:noindex
X-PUBLISHED-TTL:PT1H
BEGIN:VTIMEZONE
TZID:America/Los_Angeles
BEGIN:DAYLIGHT
TZOFFSETFROM:-0800
TZOFFSETTO:-0700
TZNAME:PDT
DTSTART:20230312T100000
END:DAYLIGHT
BEGIN:STANDARD
TZOFFSETFROM:-0700
TZOFFSETTO:-0800
TZNAME:PST
DTSTART:20231105T090000
END:STANDARD
BEGIN:DAYLIGHT
TZOFFSETFROM:-0800
TZOFFSETTO:-0700
TZNAME:PDT
DTSTART:20240310T100000
END:DAYLIGHT
BEGIN:STANDARD
TZOFFSETFROM:-0700
TZOFFSETTO:-0800
TZNAME:PST
DTSTART:20241103T090000
END:STANDARD
BEGIN:DAYLIGHT
TZOFFSETFROM:-0800
TZOFFSETTO:-0700
TZNAME:PDT
DTSTART:20250309T100000
END:DAYLIGHT
BEGIN:STANDARD
TZOFFSETFROM:-0700
TZOFFSETTO:-0800
TZNAME:PST
DTSTART:20251102T090000
END:STANDARD
END:VTIMEZONE
BEGIN:VEVENT
DTSTART;TZID=America/Los_Angeles:20240601T200000
DTEND;TZID=America/Los_Angeles:20240601T220000
DTSTAMP:20260419T213248
CREATED:20240518T082335Z
LAST-MODIFIED:20240518T082335Z
UID:10003077-1717272000-1717279200@lahiphopevents.com
SUMMARY:Brazilian HipHop - Netrola's album "From the Pit to the Top" || Kulak's Woodshed\, Los Angeles
DESCRIPTION:Brazilian HipHop – Netrola’s album “From the Pit to the Top”\n  \nWelcome to the Brazilian Hip Hop event\, “From Bottom to Top: Netrola’s Album Showcase”! Join us at Kulak’s Woodshed for an unforgettable night of music and culture. Get ready to groove to the beats of Netrola’s debut album as he takes you on a journey through the Brazilian hip hop scene. This in-person event promises to be a night to remember\, filled with energy\, rhythm\, and good vibes. Don’t miss out on this unique opportunity to experience the best of Brazilian hip hop right here in Los Angeles! \n  \n 
URL:https://lahiphopevents.com/event/brazilian-hiphop-netrolas-album-from-the-pit-to-the-top-kulaks-woodshed-los-angeles/
LOCATION:Kulak’s Woodshed | Los Angeles\, Laurel Canyon Boulevard\, Los Angeles\, CA\, 91607\, United States
CATEGORIES:Album | Record Release
ATTACH;FMTTYPE=image/jpeg:https://lahiphopevents.com/wp-content/uploads/2024/05/brazilian-2.jpg
ORGANIZER;CN="LAMV Festival":MAILTO:manoelneto@lamvfestival.com
GEO:34.1657915;-118.3962692
X-APPLE-STRUCTURED-LOCATION;VALUE=URI;X-ADDRESS=Kulak’s Woodshed | Los Angeles Laurel Canyon Boulevard Los Angeles CA 91607 United States;X-APPLE-RADIUS=500;X-TITLE=Laurel Canyon Boulevard:geo:-118.3962692,34.1657915
END:VEVENT
END:VCALENDAR