BEGIN:VCALENDAR
VERSION:2.0
PRODID:-//LA HIP HOP EVENTS - ECPv6.15.20//NONSGML v1.0//EN
CALSCALE:GREGORIAN
METHOD:PUBLISH
X-ORIGINAL-URL:https://lahiphopevents.com
X-WR-CALDESC:Events for LA HIP HOP EVENTS
REFRESH-INTERVAL;VALUE=DURATION:PT1H
X-Robots-Tag:noindex
X-PUBLISHED-TTL:PT1H
BEGIN:VTIMEZONE
TZID:America/Los_Angeles
BEGIN:DAYLIGHT
TZOFFSETFROM:-0800
TZOFFSETTO:-0700
TZNAME:PDT
DTSTART:20240310T100000
END:DAYLIGHT
BEGIN:STANDARD
TZOFFSETFROM:-0700
TZOFFSETTO:-0800
TZNAME:PST
DTSTART:20241103T090000
END:STANDARD
BEGIN:DAYLIGHT
TZOFFSETFROM:-0800
TZOFFSETTO:-0700
TZNAME:PDT
DTSTART:20250309T100000
END:DAYLIGHT
BEGIN:STANDARD
TZOFFSETFROM:-0700
TZOFFSETTO:-0800
TZNAME:PST
DTSTART:20251102T090000
END:STANDARD
BEGIN:DAYLIGHT
TZOFFSETFROM:-0800
TZOFFSETTO:-0700
TZNAME:PDT
DTSTART:20260308T100000
END:DAYLIGHT
BEGIN:STANDARD
TZOFFSETFROM:-0700
TZOFFSETTO:-0800
TZNAME:PST
DTSTART:20261101T090000
END:STANDARD
END:VTIMEZONE
BEGIN:VEVENT
DTSTART;TZID=America/Los_Angeles:20250107T200000
DTEND;TZID=America/Los_Angeles:20250107T200000
DTSTAMP:20260421T090653
CREATED:20240918T221542Z
LAST-MODIFIED:20240918T221633Z
UID:10003379-1736280000-1736280000@lahiphopevents.com
SUMMARY:Monica⁣ Live at Yaamava' Theater\, Highland
DESCRIPTION:Monica⁣\n⁣\nYaamava’ Theater⁣\n777 San Manuel Blvd⁣\nHighland\, CA 92346⁣\n⁣\nTues Jan 7\, 2025 – 8:00 PM⁣\nDoors Open: 7:00 PM⁣\nAges: 21 & Over⁣\n⁣\nOnsale: MON SEP 16\, 2024 – 10:00 AM⁣\nTicket limit of 4. Anyone exceeding this limit will be subject to order cancelation.⁣ \nClick here for more events. \n  \n⁣⁣⁣⁣⁣
URL:https://lahiphopevents.com/event/monica%e2%81%a3-live-at-yaamava-theater-highland/
LOCATION:Yaamava’ Theater | Highland\, 777 San Manuel Blvd\, Highland\, CA\, 92346\, United States
CATEGORIES:RnB
ATTACH;FMTTYPE=image/jpeg:https://lahiphopevents.com/wp-content/uploads/2024/09/monica-2-2-2.jpg
GEO:34.1576681;-117.2226924
X-APPLE-STRUCTURED-LOCATION;VALUE=URI;X-ADDRESS=Yaamava’ Theater | Highland 777 San Manuel Blvd Highland CA 92346 United States;X-APPLE-RADIUS=500;X-TITLE=777 San Manuel Blvd:geo:-117.2226924,34.1576681
END:VEVENT
BEGIN:VEVENT
DTSTART;TZID=America/Los_Angeles:20250108T193000
DTEND;TZID=America/Los_Angeles:20250108T193000
DTSTAMP:20260421T090653
CREATED:20241127T070715Z
LAST-MODIFIED:20250108T211407Z
UID:10003534-1736364600-1736364600@lahiphopevents.com
SUMMARY:Rod Wave - Last Lap Tour⁣⁣ *Rescheduled* at Intuit Dome\, ⁣⁣Inglewood
DESCRIPTION:Rod Wave – Last Lap Tour⁣⁣\n⁣⁣\nWed • Jan 08\, 2025 • 7:30 PM⁣⁣\n⁣⁣\nIntuit Dome\, ⁣⁣\nInglewood\, CA
URL:https://lahiphopevents.com/event/rod-wave-last-lap-tour%e2%81%a3%e2%81%a3-rescheduled-at-intuit-dome-%e2%81%a3%e2%81%a3inglewood/
LOCATION:Intuit Dome⁣ | Inglewood\, 3930 W Century Blvd\, Inglewood\, 90303\, United States
ATTACH;FMTTYPE=image/jpeg:https://lahiphopevents.com/wp-content/uploads/2024/11/Rod-Wave-Rescheuled-2-2-2.jpg
GEO:33.944929;-118.34299
X-APPLE-STRUCTURED-LOCATION;VALUE=URI;X-ADDRESS=Intuit Dome⁣ | Inglewood 3930 W Century Blvd Inglewood 90303 United States;X-APPLE-RADIUS=500;X-TITLE=3930 W Century Blvd:geo:-118.34299,33.944929
END:VEVENT
BEGIN:VEVENT
DTSTART;TZID=America/Los_Angeles:20250108T200000
DTEND;TZID=America/Los_Angeles:20250108T200000
DTSTAMP:20260421T090653
CREATED:20241029T174847Z
LAST-MODIFIED:20241202T065433Z
UID:10003461-1736366400-1736366400@lahiphopevents.com
SUMMARY:DaBaby Live at Fonda Theatre\, Los Angeles
DESCRIPTION:Goldenvoice presents\n\n\n\n\nDaBaby\n\n[spacer height=”20px”]\n\n\n\nFonda Theatre⁣\n6126 Hollywood Boulevard⁣\nLos Angeles\, CA 90028⁣\n[spacer height=”20px”]\nWed Jan 8\, 2025 – 8:00 PM\n[spacer height=”20px”]\n\n\nAges: All Ages\nDoors Open: 6:00 PM\nOnsale: FRI NOV 1\, 2024 – 10:00 AM
URL:https://lahiphopevents.com/event/dababy-live-at-fonda-theatre-los-angeles/
LOCATION:The Fonda Theatre | Los Angeles\, 6126 Hollywood Blvd\, Los Angeles\, CA\, 90028\, United States
ATTACH;FMTTYPE=image/jpeg:https://lahiphopevents.com/wp-content/uploads/2024/10/DaBaby-2.jpg
GEO:34.1012695;-118.3232478
X-APPLE-STRUCTURED-LOCATION;VALUE=URI;X-ADDRESS=The Fonda Theatre | Los Angeles 6126 Hollywood Blvd Los Angeles CA 90028 United States;X-APPLE-RADIUS=500;X-TITLE=6126 Hollywood Blvd:geo:-118.3232478,34.1012695
END:VEVENT
END:VCALENDAR