BEGIN:VCALENDAR
VERSION:2.0
PRODID:-//LA HIP HOP EVENTS - ECPv6.15.20//NONSGML v1.0//EN
CALSCALE:GREGORIAN
METHOD:PUBLISH
X-ORIGINAL-URL:https://lahiphopevents.com
X-WR-CALDESC:Events for LA HIP HOP EVENTS
REFRESH-INTERVAL;VALUE=DURATION:PT1H
X-Robots-Tag:noindex
X-PUBLISHED-TTL:PT1H
BEGIN:VTIMEZONE
TZID:Africa/Abidjan
BEGIN:STANDARD
TZOFFSETFROM:+0000
TZOFFSETTO:+0000
TZNAME:GMT
DTSTART:20240101T000000
END:STANDARD
END:VTIMEZONE
BEGIN:VEVENT
DTSTART;TZID=Africa/Abidjan:20250802T200000
DTEND;TZID=Africa/Abidjan:20250802T230000
DTSTAMP:20260420T132013
CREATED:20250514T184520Z
LAST-MODIFIED:20250604T061055Z
UID:10003830-1754164800-1754175600@lahiphopevents.com
SUMMARY:Afu-Ra Body of the Life Force Tour at Mxxnshine Records
DESCRIPTION:Join us for the Body of the Life Force Tour Coming to Southern California at Shine on Events at Mxxnshine Records in the City of Whittier\,CA\n\n\nJoin us August 2nd at Shine on Events at Mxxnshine Records in The city of Whittier California as we Bring to You the Body of the Life Force Tour With Hip Hop Pioneer AFU-RA from the Legendary Rap group Gang Starr! Pull up for a Live Performance and Great Hip Hop. We have a Dope Line Up for the Night. See you there!
URL:https://lahiphopevents.com/event/afu-ra-body-of-the-life-force-tour/
LOCATION:Mxxnshine Records | Whittier\, 7028 Greenleaf Ave # H\, Whittier\, 90602\, United States
ATTACH;FMTTYPE=image/jpeg:https://lahiphopevents.com/wp-content/uploads/2025/05/176666_image.jpg
GEO:33.9781845;-118.0370546
X-APPLE-STRUCTURED-LOCATION;VALUE=URI;X-ADDRESS=Mxxnshine Records | Whittier 7028 Greenleaf Ave # H Whittier 90602 United States;X-APPLE-RADIUS=500;X-TITLE=7028 Greenleaf Ave # H:geo:-118.0370546,33.9781845
END:VEVENT
END:VCALENDAR