BEGIN:VCALENDAR
VERSION:2.0
PRODID:-//LA HIP HOP EVENTS - ECPv6.15.20//NONSGML v1.0//EN
CALSCALE:GREGORIAN
METHOD:PUBLISH
X-ORIGINAL-URL:https://lahiphopevents.com
X-WR-CALDESC:Events for LA HIP HOP EVENTS
REFRESH-INTERVAL;VALUE=DURATION:PT1H
X-Robots-Tag:noindex
X-PUBLISHED-TTL:PT1H
BEGIN:VTIMEZONE
TZID:America/Los_Angeles
BEGIN:DAYLIGHT
TZOFFSETFROM:-0800
TZOFFSETTO:-0700
TZNAME:PDT
DTSTART:20230312T100000
END:DAYLIGHT
BEGIN:STANDARD
TZOFFSETFROM:-0700
TZOFFSETTO:-0800
TZNAME:PST
DTSTART:20231105T090000
END:STANDARD
BEGIN:DAYLIGHT
TZOFFSETFROM:-0800
TZOFFSETTO:-0700
TZNAME:PDT
DTSTART:20240310T100000
END:DAYLIGHT
BEGIN:STANDARD
TZOFFSETFROM:-0700
TZOFFSETTO:-0800
TZNAME:PST
DTSTART:20241103T090000
END:STANDARD
BEGIN:DAYLIGHT
TZOFFSETFROM:-0800
TZOFFSETTO:-0700
TZNAME:PDT
DTSTART:20250309T100000
END:DAYLIGHT
BEGIN:STANDARD
TZOFFSETFROM:-0700
TZOFFSETTO:-0800
TZNAME:PST
DTSTART:20251102T090000
END:STANDARD
BEGIN:DAYLIGHT
TZOFFSETFROM:-0800
TZOFFSETTO:-0700
TZNAME:PDT
DTSTART:20260308T100000
END:DAYLIGHT
BEGIN:STANDARD
TZOFFSETFROM:-0700
TZOFFSETTO:-0800
TZNAME:PST
DTSTART:20261101T090000
END:STANDARD
END:VTIMEZONE
BEGIN:VEVENT
DTSTART;TZID=America/Los_Angeles:20251123T120000
DTEND;TZID=America/Los_Angeles:20251123T230000
DTSTAMP:20260420T210121
CREATED:20250521T003356Z
LAST-MODIFIED:20251118T125238Z
UID:10003847-1763899200-1763938800@lahiphopevents.com
SUMMARY:Camp Flog Gnaw 2025 at Dodger Stadium in Los Angeles
DESCRIPTION:Camp Flog Gnaw \nNovember 22 – 23\, 2025 | 12 PM – 11 PM [UPDATED] \nDodger Stadium⁣\nLos Angeles\, Ca⁣\n⁣⁣\n⁣⁣⁣⁣Tyler\, The Creator‘s Camp Flog Gnaw Carnival festival has announced its eleventh annual edition\, returning on November 22-23 at the Dodger Stadium Grounds in Los Angeles. Registration is open now to purchase advance sale passes\, starting Thursday\, May 22 at 12 PM PT. \n  \n 
URL:https://lahiphopevents.com/event/camp-flog-gnaw-2025-at-dodger-stadium-in-los-angeles-2/
LOCATION:Dodger Stadium | Los Angeles\, 1000 Elysian Park Avenue\, Los Angeles\, CA\, 90090\, United States
ATTACH;FMTTYPE=image/jpeg:https://lahiphopevents.com/wp-content/uploads/2025/05/Camp-Flog-Gnaw-2025-Updated.jpg
GEO:34.0724464;-118.2473929
X-APPLE-STRUCTURED-LOCATION;VALUE=URI;X-ADDRESS=Dodger Stadium | Los Angeles 1000 Elysian Park Avenue Los Angeles CA 90090 United States;X-APPLE-RADIUS=500;X-TITLE=1000 Elysian Park Avenue:geo:-118.2473929,34.0724464
END:VEVENT
BEGIN:VEVENT
DTSTART;TZID=America/Los_Angeles:20251122T120000
DTEND;TZID=America/Los_Angeles:20251122T230000
DTSTAMP:20260420T210121
CREATED:20250521T002815Z
LAST-MODIFIED:20251118T125219Z
UID:10003846-1763812800-1763852400@lahiphopevents.com
SUMMARY:Camp Flog Gnaw 2025 at Dodger Stadium in Los Angeles
DESCRIPTION:Camp Flog Gnaw \nNovember 22 – 23\, 2025 | 12 PM – 11 PM [UPDATE] \nDodger Stadium⁣\nLos Angeles\, Ca⁣\n⁣⁣\n⁣⁣⁣⁣Tyler\, The Creator‘s Camp Flog Gnaw Carnival festival has announced its eleventh annual edition\, returning on November 22-23 at the Dodger Stadium Grounds in Los Angeles. Registration is open now to purchase advance sale passes\, starting Thursday\, May 22 at 12 PM PT. \n  \n 
URL:https://lahiphopevents.com/event/camp-flog-gnaw-2025-at-dodger-stadium-in-los-angeles/
LOCATION:Dodger Stadium | Los Angeles\, 1000 Elysian Park Avenue\, Los Angeles\, CA\, 90090\, United States
ATTACH;FMTTYPE=image/jpeg:https://lahiphopevents.com/wp-content/uploads/2025/05/Camp-Flog-Gnaw-2025-Updated.jpg
GEO:34.0724464;-118.2473929
X-APPLE-STRUCTURED-LOCATION;VALUE=URI;X-ADDRESS=Dodger Stadium | Los Angeles 1000 Elysian Park Avenue Los Angeles CA 90090 United States;X-APPLE-RADIUS=500;X-TITLE=1000 Elysian Park Avenue:geo:-118.2473929,34.0724464
END:VEVENT
BEGIN:VEVENT
DTSTART;TZID=America/Los_Angeles:20241117T120000
DTEND;TZID=America/Los_Angeles:20241117T234500
DTSTAMP:20260420T210121
CREATED:20240625T004555Z
LAST-MODIFIED:20240625T004712Z
UID:10003176-1731844800-1731887100@lahiphopevents.com
SUMMARY:Camp Flog Gnaw Carnival 2024 at Dodger Stadium Grounds\, Los Angeles
DESCRIPTION:Camp Flog Gnaw Carnival 2024\n[spacer height=”20px”] \nNov 16\, 2024 | 12 PM – Nov 17\, 2024 | 11:45 PM \n[spacer height=”20px”] \nDODGER STADIUM GROUNDS⁣\n1000 Vin Scully Ave⁣\nLos Angeles\, CA 90012 \n[spacer height=”20px”]
URL:https://lahiphopevents.com/event/camp-flog-gnaw-carnival-2024-at-dodger-stadium-grounds-los-angeles/
LOCATION:Dodger Stadium | Los Angeles\, 1000 Elysian Park Avenue\, Los Angeles\, CA\, 90090\, United States
ATTACH;FMTTYPE=image/jpeg:https://lahiphopevents.com/wp-content/uploads/2024/06/camp-flog-gnaw-3.jpg
GEO:34.0724464;-118.2473929
X-APPLE-STRUCTURED-LOCATION;VALUE=URI;X-ADDRESS=Dodger Stadium | Los Angeles 1000 Elysian Park Avenue Los Angeles CA 90090 United States;X-APPLE-RADIUS=500;X-TITLE=1000 Elysian Park Avenue:geo:-118.2473929,34.0724464
END:VEVENT
BEGIN:VEVENT
DTSTART;TZID=America/Los_Angeles:20241116T120000
DTEND;TZID=America/Los_Angeles:20241116T234500
DTSTAMP:20260420T210121
CREATED:20240625T000434Z
LAST-MODIFIED:20240625T004703Z
UID:10003175-1731758400-1731800700@lahiphopevents.com
SUMMARY:Camp Flog Gnaw Carnival 2024 at Dodger Stadium Grounds\, Los Angeles
DESCRIPTION:Camp Flog Gnaw Carnival 2024\n[spacer height=”20px”] \nNov 16\, 2024 | 12 PM – Nov 17\, 2024 | 11:45 PM \n[spacer height=”20px”] \nDODGER STADIUM GROUNDS⁣\n1000 Vin Scully Ave⁣\nLos Angeles\, CA 90012 \n[spacer height=”20px”] \n  \n 
URL:https://lahiphopevents.com/event/camp-flog-gnaw-carnival-2024-at-dodgers-stadium-grounds-los-angeles/
LOCATION:Dodger Stadium | Los Angeles\, 1000 Elysian Park Avenue\, Los Angeles\, CA\, 90090\, United States
ATTACH;FMTTYPE=image/jpeg:https://lahiphopevents.com/wp-content/uploads/2024/06/camp-flog-gnaw-3.jpg
GEO:34.0724464;-118.2473929
X-APPLE-STRUCTURED-LOCATION;VALUE=URI;X-ADDRESS=Dodger Stadium | Los Angeles 1000 Elysian Park Avenue Los Angeles CA 90090 United States;X-APPLE-RADIUS=500;X-TITLE=1000 Elysian Park Avenue:geo:-118.2473929,34.0724464
END:VEVENT
END:VCALENDAR