BEGIN:VCALENDAR
VERSION:2.0
PRODID:-//LA HIP HOP EVENTS - ECPv6.15.20//NONSGML v1.0//EN
CALSCALE:GREGORIAN
METHOD:PUBLISH
X-WR-CALNAME:LA HIP HOP EVENTS
X-ORIGINAL-URL:https://lahiphopevents.com
X-WR-CALDESC:Events for LA HIP HOP EVENTS
REFRESH-INTERVAL;VALUE=DURATION:PT1H
X-Robots-Tag:noindex
X-PUBLISHED-TTL:PT1H
BEGIN:VTIMEZONE
TZID:America/Los_Angeles
BEGIN:DAYLIGHT
TZOFFSETFROM:-0800
TZOFFSETTO:-0700
TZNAME:PDT
DTSTART:20250309T100000
END:DAYLIGHT
BEGIN:STANDARD
TZOFFSETFROM:-0700
TZOFFSETTO:-0800
TZNAME:PST
DTSTART:20251102T090000
END:STANDARD
BEGIN:DAYLIGHT
TZOFFSETFROM:-0800
TZOFFSETTO:-0700
TZNAME:PDT
DTSTART:20260308T100000
END:DAYLIGHT
BEGIN:STANDARD
TZOFFSETFROM:-0700
TZOFFSETTO:-0800
TZNAME:PST
DTSTART:20261101T090000
END:STANDARD
BEGIN:DAYLIGHT
TZOFFSETFROM:-0800
TZOFFSETTO:-0700
TZNAME:PDT
DTSTART:20270314T100000
END:DAYLIGHT
BEGIN:STANDARD
TZOFFSETFROM:-0700
TZOFFSETTO:-0800
TZNAME:PST
DTSTART:20271107T090000
END:STANDARD
END:VTIMEZONE
BEGIN:VEVENT
DTSTART;TZID=America/Los_Angeles:20260925T190000
DTEND;TZID=America/Los_Angeles:20260925T190000
DTSTAMP:20260425T131424
CREATED:20260414T173104Z
LAST-MODIFIED:20260414T173104Z
UID:10004797-1790362800-1790362800@lahiphopevents.com
SUMMARY:Usher & Chris Brown Live – The R&B Tour 2026
DESCRIPTION:The R&B Tour – Starring Usher Raymond & Chris Brown⁣\n⁣\nFri • Sep 25\, 2026 • 7:00 PM⁣\n⁣\nSoFi Stadium⁣\nInglewood\, CA
URL:https://lahiphopevents.com/event/usher-chris-brown-live-the-rb-tour-2026/
LOCATION:SoFi Stadium | Inglewood\, 1001 Stadium Dr\, Inglewood\, CA\, 90301\, United States
CATEGORIES:Concert,Events,Inglewood,Los Angeles Events,RnB
ATTACH;FMTTYPE=image/jpeg:https://lahiphopevents.com/wp-content/uploads/2026/04/Chris-Brown-x-Usher-Raymond.jpg
GEO:33.9530049;-118.3385242
X-APPLE-STRUCTURED-LOCATION;VALUE=URI;X-ADDRESS=SoFi Stadium | Inglewood 1001 Stadium Dr Inglewood CA 90301 United States;X-APPLE-RADIUS=500;X-TITLE=1001 Stadium Dr:geo:-118.3385242,33.9530049
END:VEVENT
BEGIN:VEVENT
DTSTART;TZID=America/Los_Angeles:20260926T190000
DTEND;TZID=America/Los_Angeles:20260926T190000
DTSTAMP:20260425T131424
CREATED:20260414T174010Z
LAST-MODIFIED:20260414T174010Z
UID:10004798-1790449200-1790449200@lahiphopevents.com
SUMMARY:Usher & Chris Brown – The R&B Tour Live
DESCRIPTION:The R&B Tour – Starring Usher Raymond & Chris Brown⁣⁣⁣\n⁣⁣⁣\nSat • Sep 26\, 2026 • 7:00 PM⁣⁣⁣\n⁣⁣⁣\nSoFi Stadium⁣⁣⁣\nInglewood\, CA
URL:https://lahiphopevents.com/event/usher-chris-brown-the-rb-tour-live/
LOCATION:SoFi Stadium | Inglewood\, 1001 Stadium Dr\, Inglewood\, CA\, 90301\, United States
CATEGORIES:Concert,Events,Inglewood,RnB
ATTACH;FMTTYPE=image/jpeg:https://lahiphopevents.com/wp-content/uploads/2026/04/Chris-Brown-x-Usher-Raymond.jpg
GEO:33.9530049;-118.3385242
X-APPLE-STRUCTURED-LOCATION;VALUE=URI;X-ADDRESS=SoFi Stadium | Inglewood 1001 Stadium Dr Inglewood CA 90301 United States;X-APPLE-RADIUS=500;X-TITLE=1001 Stadium Dr:geo:-118.3385242,33.9530049
END:VEVENT
BEGIN:VEVENT
DTSTART;TZID=America/Los_Angeles:20261002T190000
DTEND;TZID=America/Los_Angeles:20261002T190000
DTSTAMP:20260425T131424
CREATED:20260112T222145Z
LAST-MODIFIED:20260112T223156Z
UID:10004343-1790967600-1790967600@lahiphopevents.com
SUMMARY:Bruno Mars: The Romantic Tour at SoFi Stadium
DESCRIPTION:Bruno Mars – The Romantic Tour⁣⁣\n⁣⁣\nFri\, Oct 2\, 2026 at 7:00 PM⁣⁣\n⁣⁣\nSoFi Stadium⁣⁣\nInglewood\, CA⁣⁣
URL:https://lahiphopevents.com/event/bruno-mars-the-romantic-tour-at-sofi-stadium/
LOCATION:SoFi Stadium | Inglewood\, 1001 Stadium Dr\, Inglewood\, CA\, 90301\, United States
CATEGORIES:Concert,Events,Inglewood,LA Nightlife,Los Angeles Events,Pop,RnB,Tour
ATTACH;FMTTYPE=image/jpeg:https://lahiphopevents.com/wp-content/uploads/2026/01/BRUNO-MARS-LA-2.jpg
GEO:33.9530049;-118.3385242
X-APPLE-STRUCTURED-LOCATION;VALUE=URI;X-ADDRESS=SoFi Stadium | Inglewood 1001 Stadium Dr Inglewood CA 90301 United States;X-APPLE-RADIUS=500;X-TITLE=1001 Stadium Dr:geo:-118.3385242,33.9530049
END:VEVENT
BEGIN:VEVENT
DTSTART;TZID=America/Los_Angeles:20261003T190000
DTEND;TZID=America/Los_Angeles:20261003T190000
DTSTAMP:20260425T131424
CREATED:20260112T223850Z
LAST-MODIFIED:20260115T041628Z
UID:10004344-1791054000-1791054000@lahiphopevents.com
SUMMARY:Bruno Mars: The Romantic Tour at SoFi Stadium
DESCRIPTION:Bruno Mars – The Romantic Tour⁣⁣\n⁣⁣\nSat\, Oct 3\, 2026 at 7:00 PM⁣⁣\n⁣⁣\nSoFi Stadium⁣⁣\nInglewood\, CA⁣⁣
URL:https://lahiphopevents.com/event/bruno-mars-the-romantic-tour-at-sofi-stadium-2/
LOCATION:SoFi Stadium | Inglewood\, 1001 Stadium Dr\, Inglewood\, CA\, 90301\, United States
CATEGORIES:Concert,Events,Inglewood,LA Hip Hop Events,LA Nightlife,Tour
ATTACH;FMTTYPE=image/jpeg:https://lahiphopevents.com/wp-content/uploads/2026/01/BRUNO-MARS-LA-2.jpg
GEO:33.9530049;-118.3385242
X-APPLE-STRUCTURED-LOCATION;VALUE=URI;X-ADDRESS=SoFi Stadium | Inglewood 1001 Stadium Dr Inglewood CA 90301 United States;X-APPLE-RADIUS=500;X-TITLE=1001 Stadium Dr:geo:-118.3385242,33.9530049
END:VEVENT
BEGIN:VEVENT
DTSTART;TZID=America/Los_Angeles:20261115T190000
DTEND;TZID=America/Los_Angeles:20261115T190000
DTSTAMP:20260425T131424
CREATED:20260423T132242Z
LAST-MODIFIED:20260423T132242Z
UID:10004810-1794769200-1794769200@lahiphopevents.com
SUMMARY:Usher & Chris Brown Live at SoFi Stadium
DESCRIPTION:The R&B Tour – Starring Usher Raymond & Chris Brown⁣⁣\n⁣⁣\nSun\, Nov 15\, 2026 at 7:00 PM⁣⁣\n⁣⁣\nSoFi Stadium⁣⁣\nInglewood\, CA
URL:https://lahiphopevents.com/event/usher-chris-brown-live-at-sofi-stadium/
LOCATION:SoFi Stadium | Inglewood\, 1001 Stadium Dr\, Inglewood\, CA\, 90301\, United States
CATEGORIES:Inglewood,RnB
ATTACH;FMTTYPE=image/jpeg:https://lahiphopevents.com/wp-content/uploads/2026/04/The-RB-Tour-2.jpg
GEO:33.9530049;-118.3385242
X-APPLE-STRUCTURED-LOCATION;VALUE=URI;X-ADDRESS=SoFi Stadium | Inglewood 1001 Stadium Dr Inglewood CA 90301 United States;X-APPLE-RADIUS=500;X-TITLE=1001 Stadium Dr:geo:-118.3385242,33.9530049
END:VEVENT
END:VCALENDAR