BEGIN:VCALENDAR
VERSION:2.0
PRODID:-//LA HIP HOP EVENTS - ECPv6.15.20//NONSGML v1.0//EN
CALSCALE:GREGORIAN
METHOD:PUBLISH
X-ORIGINAL-URL:https://lahiphopevents.com
X-WR-CALDESC:Events for LA HIP HOP EVENTS
REFRESH-INTERVAL;VALUE=DURATION:PT1H
X-Robots-Tag:noindex
X-PUBLISHED-TTL:PT1H
BEGIN:VTIMEZONE
TZID:America/Los_Angeles
BEGIN:DAYLIGHT
TZOFFSETFROM:-0800
TZOFFSETTO:-0700
TZNAME:PDT
DTSTART:20230312T100000
END:DAYLIGHT
BEGIN:STANDARD
TZOFFSETFROM:-0700
TZOFFSETTO:-0800
TZNAME:PST
DTSTART:20231105T090000
END:STANDARD
BEGIN:DAYLIGHT
TZOFFSETFROM:-0800
TZOFFSETTO:-0700
TZNAME:PDT
DTSTART:20240310T100000
END:DAYLIGHT
BEGIN:STANDARD
TZOFFSETFROM:-0700
TZOFFSETTO:-0800
TZNAME:PST
DTSTART:20241103T090000
END:STANDARD
BEGIN:DAYLIGHT
TZOFFSETFROM:-0800
TZOFFSETTO:-0700
TZNAME:PDT
DTSTART:20250309T100000
END:DAYLIGHT
BEGIN:STANDARD
TZOFFSETFROM:-0700
TZOFFSETTO:-0800
TZNAME:PST
DTSTART:20251102T090000
END:STANDARD
BEGIN:DAYLIGHT
TZOFFSETFROM:-0800
TZOFFSETTO:-0700
TZNAME:PDT
DTSTART:20260308T100000
END:DAYLIGHT
BEGIN:STANDARD
TZOFFSETFROM:-0700
TZOFFSETTO:-0800
TZNAME:PST
DTSTART:20261101T090000
END:STANDARD
END:VTIMEZONE
BEGIN:VEVENT
DTSTART;TZID=America/Los_Angeles:20250620T220000
DTEND;TZID=America/Los_Angeles:20250620T220000
DTSTAMP:20260422T175844
CREATED:20250528T202912Z
LAST-MODIFIED:20250528T202912Z
UID:10003857-1750456800-1750456800@lahiphopevents.com
SUMMARY:Ne-Yo⁣ at Time Nightclub in Costa Mesa
DESCRIPTION:Ne-Yo⁣\n⁣\nFri Jun 20 2025⁣\n10:00 PM Doors⁣\n⁣\nTime Nightclub⁣\n1875 Newport Blvd. Suite B245⁣\nCosta Mesa\, CA 92627⁣\n⁣\n$49.95⁣\nAges 21+⁣
URL:https://lahiphopevents.com/event/ne-yo%e2%81%a3-at-time-nightclub-in-costa-mesa/
LOCATION:Time Nightclub | Costa Mesa\, 1874 Newport Blvd. #B245\, Costa Mesa\, CA\, 92627\, United States
CATEGORIES:Costa Mesa
ATTACH;FMTTYPE=image/jpeg:https://lahiphopevents.com/wp-content/uploads/2025/05/Ne-Yo-2.jpg
GEO:33.6426064;-117.9171753
X-APPLE-STRUCTURED-LOCATION;VALUE=URI;X-ADDRESS=Time Nightclub | Costa Mesa 1874 Newport Blvd. #B245 Costa Mesa CA 92627 United States;X-APPLE-RADIUS=500;X-TITLE=1874 Newport Blvd. #B245:geo:-117.9171753,33.6426064
END:VEVENT
BEGIN:VEVENT
DTSTART;TZID=America/Los_Angeles:20250531T220000
DTEND;TZID=America/Los_Angeles:20250531T220000
DTSTAMP:20260422T175844
CREATED:20250516T054151Z
LAST-MODIFIED:20250516T054942Z
UID:10003832-1748728800-1748728800@lahiphopevents.com
SUMMARY:G-Eazy at Time Nightclub⁣ in Costa Mesa
DESCRIPTION:G-Eazy⁣\n⁣\nSat May 31 2025⁣\n10:00 PM Doors⁣\n⁣\nTime Nightclub⁣\n1875 Newport Blvd. Suite B245⁣\nCosta Mesa\, CA 92627⁣\n⁣\n$49.95⁣\nAges 21+⁣
URL:https://lahiphopevents.com/event/g-eazy-at-time-nightclub%e2%81%a3-in-costa-mesa/
LOCATION:Time Nightclub | Costa Mesa\, 1874 Newport Blvd. #B245\, Costa Mesa\, CA\, 92627\, United States
ATTACH;FMTTYPE=image/jpeg:https://lahiphopevents.com/wp-content/uploads/2025/05/G-Eazy.jpg
GEO:33.6426064;-117.9171753
X-APPLE-STRUCTURED-LOCATION;VALUE=URI;X-ADDRESS=Time Nightclub | Costa Mesa 1874 Newport Blvd. #B245 Costa Mesa CA 92627 United States;X-APPLE-RADIUS=500;X-TITLE=1874 Newport Blvd. #B245:geo:-117.9171753,33.6426064
END:VEVENT
BEGIN:VEVENT
DTSTART;TZID=America/Los_Angeles:20250525T223000
DTEND;TZID=America/Los_Angeles:20250525T223000
DTSTAMP:20260422T175844
CREATED:20250402T042029Z
LAST-MODIFIED:20250402T042029Z
UID:10003767-1748212200-1748212200@lahiphopevents.com
SUMMARY:Leon Thomas⁣ at Time Nightclub in Costa Mesa
DESCRIPTION:Leon Thomas⁣\nToney Handsome⁣⁣ \nSun May 25 2025⁣\n10:30 PM Doors⁣\n⁣\nTime Nightclub⁣\n1875 Newport Blvd. Suite B245⁣\nCosta Mesa\, CA 92627⁣\n⁣\n$29.95⁣\nAges 21+⁣
URL:https://lahiphopevents.com/event/leon-thomas%e2%81%a3-at-time-nightclub-in-costa-mesa/
LOCATION:Time Nightclub | Costa Mesa\, 1874 Newport Blvd. #B245\, Costa Mesa\, CA\, 92627\, United States
ATTACH;FMTTYPE=image/jpeg:https://lahiphopevents.com/wp-content/uploads/2025/04/Leon-Thomas.jpg
GEO:33.6426064;-117.9171753
X-APPLE-STRUCTURED-LOCATION;VALUE=URI;X-ADDRESS=Time Nightclub | Costa Mesa 1874 Newport Blvd. #B245 Costa Mesa CA 92627 United States;X-APPLE-RADIUS=500;X-TITLE=1874 Newport Blvd. #B245:geo:-117.9171753,33.6426064
END:VEVENT
BEGIN:VEVENT
DTSTART;TZID=America/Los_Angeles:20250216T220000
DTEND;TZID=America/Los_Angeles:20250216T220000
DTSTAMP:20260422T175844
CREATED:20250104T001528Z
LAST-MODIFIED:20250104T012948Z
UID:10003582-1739743200-1739743200@lahiphopevents.com
SUMMARY:BLXST Live at Time Nightclub\, Costa Mesa
DESCRIPTION:BLXST⁣\n⁣⁣\nSunday\, February 16\, 2025⁣ | 10 PM | 21+\n⁣⁣\nTime Nightclub⁣\n1875 Newport Blvd. Suite B245⁣\nCosta Mesa CA⁣⁣\n⁣\n⁣
URL:https://lahiphopevents.com/event/blxst-live-at-time-nightclub-costa-mesa/
LOCATION:Time Nightclub | Costa Mesa\, 1874 Newport Blvd. #B245\, Costa Mesa\, CA\, 92627\, United States
ATTACH;FMTTYPE=image/jpeg:https://lahiphopevents.com/wp-content/uploads/2025/01/BLXST-Time-Nightclub-e1735953516105.jpg
GEO:33.6426064;-117.9171753
X-APPLE-STRUCTURED-LOCATION;VALUE=URI;X-ADDRESS=Time Nightclub | Costa Mesa 1874 Newport Blvd. #B245 Costa Mesa CA 92627 United States;X-APPLE-RADIUS=500;X-TITLE=1874 Newport Blvd. #B245:geo:-117.9171753,33.6426064
END:VEVENT
BEGIN:VEVENT
DTSTART;TZID=America/Los_Angeles:20250119T220000
DTEND;TZID=America/Los_Angeles:20250119T220000
DTSTAMP:20260422T175844
CREATED:20241219T210018Z
LAST-MODIFIED:20241219T221509Z
UID:10003572-1737324000-1737324000@lahiphopevents.com
SUMMARY:Don Toliver at Time Nightclub\, Costa Mesa
DESCRIPTION:DON TOLIVER⁣\n⁣\nSun Jan 19 2025⁣\n10:00 PM Doors⁣\n⁣\nTime Nightclub⁣\n1875 Newport Blvd. Suite B245⁣\nCosta Mesa\, CA 92627⁣\n⁣\n$49.95⁣\nAges 21
URL:https://lahiphopevents.com/event/don-toliver-at-time-nightclub-costa-mesa/
LOCATION:Time Nightclub | Costa Mesa\, 1874 Newport Blvd. #B245\, Costa Mesa\, CA\, 92627\, United States
ATTACH;FMTTYPE=image/jpeg:https://lahiphopevents.com/wp-content/uploads/2024/12/Don-Toliver-Time-Nightclub.jpg
GEO:33.6426064;-117.9171753
X-APPLE-STRUCTURED-LOCATION;VALUE=URI;X-ADDRESS=Time Nightclub | Costa Mesa 1874 Newport Blvd. #B245 Costa Mesa CA 92627 United States;X-APPLE-RADIUS=500;X-TITLE=1874 Newport Blvd. #B245:geo:-117.9171753,33.6426064
END:VEVENT
BEGIN:VEVENT
DTSTART;TZID=America/Los_Angeles:20241127T213000
DTEND;TZID=America/Los_Angeles:20241127T213000
DTSTAMP:20260422T175844
CREATED:20241102T200344Z
LAST-MODIFIED:20241109T002702Z
UID:10003481-1732743000-1732743000@lahiphopevents.com
SUMMARY:WIZ KHALIFA Thanksgiving Eve at Time Nightclub\, Costa Mesa
DESCRIPTION:WIZ KHALIFA⁣\n⁣\nWed\, November 27 2024⁣\n9:30 PM Doors⁣\n⁣\nTime Nightclub⁣\n1875 Newport Blvd. Suite B245⁣\nCosta Mesa\, CA 92627⁣\n⁣\n$29.95⁣\nAges 21+⁣\n⁣⁣ \n\n 
URL:https://lahiphopevents.com/event/wiz-khalifa-thanksgiving-eve-at-time-nightclub-costa-mesa/
LOCATION:Time Nightclub | Costa Mesa\, 1874 Newport Blvd. #B245\, Costa Mesa\, CA\, 92627\, United States
ATTACH;FMTTYPE=image/jpeg:https://lahiphopevents.com/wp-content/uploads/2024/11/Wiz-Khalifa-2-2-2.jpg
GEO:33.6426064;-117.9171753
X-APPLE-STRUCTURED-LOCATION;VALUE=URI;X-ADDRESS=Time Nightclub | Costa Mesa 1874 Newport Blvd. #B245 Costa Mesa CA 92627 United States;X-APPLE-RADIUS=500;X-TITLE=1874 Newport Blvd. #B245:geo:-117.9171753,33.6426064
END:VEVENT
BEGIN:VEVENT
DTSTART;TZID=America/Los_Angeles:20240703T213000
DTEND;TZID=America/Los_Angeles:20240703T213000
DTSTAMP:20260422T175844
CREATED:20240525T061400Z
LAST-MODIFIED:20240525T061828Z
UID:10003098-1720042200-1720042200@lahiphopevents.com
SUMMARY:BLXST || Time Nightclub\, Costa Mesa
DESCRIPTION:   Time Nightclub presents \n  \n BLXST\n  \nDATE: WEDNESDAY\, JULY 03\, 2024⁣\nDOOR TIME: 9:30 PM PDT⁣\nAGE RESTRICTION: 21⁣\n⁣\n⁣\nVENUE: TIME NIGHTCLUB⁣\n1875 NEWPORT BLVD. SUITE B245⁣\n⁣⁣⁣⁣⁣⁣⁣⁣
URL:https://lahiphopevents.com/event/blxst-time-nightclub-costa-mesa/
LOCATION:Time Nightclub | Costa Mesa\, 1874 Newport Blvd. #B245\, Costa Mesa\, CA\, 92627\, United States
ATTACH;FMTTYPE=image/jpeg:https://lahiphopevents.com/wp-content/uploads/2024/05/BLXST-4th-of-July-Weekend-2-2-2.jpg
GEO:33.6426064;-117.9171753
X-APPLE-STRUCTURED-LOCATION;VALUE=URI;X-ADDRESS=Time Nightclub | Costa Mesa 1874 Newport Blvd. #B245 Costa Mesa CA 92627 United States;X-APPLE-RADIUS=500;X-TITLE=1874 Newport Blvd. #B245:geo:-117.9171753,33.6426064
END:VEVENT
BEGIN:VEVENT
DTSTART;TZID=America/Los_Angeles:20240526T213000
DTEND;TZID=America/Los_Angeles:20240526T213000
DTSTAMP:20260422T175844
CREATED:20240421T001159Z
LAST-MODIFIED:20240526T065336Z
UID:10003039-1716759000-1716759000@lahiphopevents.com
SUMMARY:G-Eazy⁣ || Time Nightclub\, Costa Mesa
DESCRIPTION:Time Nightclub presents⁣\nG-Eazy⁣\n⁣\n⁣\nSun May 26 2024⁣\n9:30 PM Doors⁣\n⁣\nTime Nightclub⁣\n1875 Newport Blvd. Suite B245⁣\nCosta Mesa\, CA 92627⁣\n⁣\n$45.00⁣\nAges 21+⁣\n⁣
URL:https://lahiphopevents.com/event/g-eazy%e2%81%a3-time-nightclub-costa-mesa/
LOCATION:Time Nightclub | Costa Mesa\, 1874 Newport Blvd. #B245\, Costa Mesa\, CA\, 92627\, United States
ATTACH;FMTTYPE=image/jpeg:https://lahiphopevents.com/wp-content/uploads/2024/04/g-eazy-3.jpg
GEO:33.6426064;-117.9171753
X-APPLE-STRUCTURED-LOCATION;VALUE=URI;X-ADDRESS=Time Nightclub | Costa Mesa 1874 Newport Blvd. #B245 Costa Mesa CA 92627 United States;X-APPLE-RADIUS=500;X-TITLE=1874 Newport Blvd. #B245:geo:-117.9171753,33.6426064
END:VEVENT
BEGIN:VEVENT
DTSTART;TZID=America/Los_Angeles:20240517T213000
DTEND;TZID=America/Los_Angeles:20240517T213000
DTSTAMP:20260422T175844
CREATED:20240508T050323Z
LAST-MODIFIED:20240508T050323Z
UID:10003065-1715981400-1715981400@lahiphopevents.com
SUMMARY:BRYSON TILLER || TIME NIGHTCLUB\, COSTA MESA
DESCRIPTION:FRI MAY 17 \nTime Nightclub presents \nBRYSON TILLER\n\nVENUE: TIME NIGHTCLUB | 1875 NEWPORT BLVD. SUITE B245 \n[spacer height=”20px”] \nOTHER INFORMATION\nTIME NIGHTCLUB IS A CASHLESS VENUE\nACCEPTED FORMS OF PAYMENT\nCredit/debit cards\, Apple/Google/Samsung Pay. \nENTRY GUIDELINES\nThis event will follow all local & state health guidelines. Ages 21+. All sales are final. Please visit our FAQ page HERE. \nSTUBHUB / VIVID SEATS / OTHER THIRD-PARTY RESELLERS\nTime Nightclub has NO association with StubHub\, Vivid Seats\, or any third-party resellers. Tickets purchased from these sites will not be valid for entry. Any tickets purchased from a third party will not give the buyer access to the ticket and its benefits. The only acceptable tickets for entry may be purchased through TicketWeb and\, in some cases\, TIXR. Your government-issued ID must match the name on the ticket.
URL:https://lahiphopevents.com/event/bryson-tiller-time-nightclub-costa-mesa/
LOCATION:Time Nightclub | Costa Mesa\, 1874 Newport Blvd. #B245\, Costa Mesa\, CA\, 92627\, United States
ATTACH;FMTTYPE=image/webp:https://lahiphopevents.com/wp-content/uploads/2024/05/BRYSON-TILLER.webp
GEO:33.6426064;-117.9171753
X-APPLE-STRUCTURED-LOCATION;VALUE=URI;X-ADDRESS=Time Nightclub | Costa Mesa 1874 Newport Blvd. #B245 Costa Mesa CA 92627 United States;X-APPLE-RADIUS=500;X-TITLE=1874 Newport Blvd. #B245:geo:-117.9171753,33.6426064
END:VEVENT
END:VCALENDAR